BEGIN:VCALENDAR
VERSION:2.0
PRODID:-//Anyanyelvápolók Szövetsége - ECPv6.8.3//NONSGML v1.0//EN
CALSCALE:GREGORIAN
METHOD:PUBLISH
X-WR-CALNAME:Anyanyelvápolók Szövetsége
X-ORIGINAL-URL:https://anyanyelvapolo.hu
X-WR-CALDESC:Events for Anyanyelvápolók Szövetsége
REFRESH-INTERVAL;VALUE=DURATION:PT1H
X-Robots-Tag:noindex
X-PUBLISHED-TTL:PT1H
BEGIN:VTIMEZONE
TZID:Europe/Budapest
BEGIN:DAYLIGHT
TZOFFSETFROM:+0100
TZOFFSETTO:+0200
TZNAME:CEST
DTSTART:20170326T010000
END:DAYLIGHT
BEGIN:STANDARD
TZOFFSETFROM:+0200
TZOFFSETTO:+0100
TZNAME:CET
DTSTART:20171029T010000
END:STANDARD
END:VTIMEZONE
BEGIN:VEVENT
DTSTART;TZID=Europe/Budapest:20170317T180000
DTEND;TZID=Europe/Budapest:20170319T110000
DTSTAMP:20260424T000850
CREATED:20170311T095059Z
LAST-MODIFIED:20181007T193850Z
UID:19184-1489773600-1489921200@anyanyelvapolo.hu
SUMMARY:XXII. Aranka György Nyelv- és Beszédművelő Verseny
DESCRIPTION:Kolozsváron az Apáczai Csere János Elméleti Líceumban 22. alkalommal rendezik meg idén az Aranka György Nyelv- és Beszédművelő Versenyt\, ahol erdélyi középiskolás diákok szép magyar beszéd\, édes anyanyelvünk és versben bujdosó kategóriában mérik össze tudásukat. A szép magyar beszéd és az édes anyanyelvünk kategória győztesei a magyarországi döntőkre jutnak tovább.
URL:https://anyanyelvapolo.hu/esemenyek/xxii-aranka-gyorgy-nyelv-es-beszedmuvelo-verseny-2017/
LOCATION:Apáczai Csere János Elméleti Líceum\, Strada Ion I. C. Brătianu 26.\, Kolozsvár\, 400079\, Romania
CATEGORIES:Versenyek
ATTACH;FMTTYPE=image/jpeg:https://anyanyelvapolo.hu/wp-content/uploads/esemeny-aranka2014.jpg
GEO:46.7688262;23.593713
X-APPLE-STRUCTURED-LOCATION;VALUE=URI;X-ADDRESS=Apáczai Csere János Elméleti Líceum Strada Ion I. C. Brătianu 26. Kolozsvár 400079 Romania;X-APPLE-RADIUS=500;X-TITLE=Strada Ion I. C. Brătianu 26.:geo:23.593713,46.7688262
END:VEVENT
END:VCALENDAR