BEGIN:VCALENDAR
VERSION:2.0
PRODID:-//Anyanyelvápolók Szövetsége - ECPv6.8.3//NONSGML v1.0//EN
CALSCALE:GREGORIAN
METHOD:PUBLISH
X-ORIGINAL-URL:https://anyanyelvapolo.hu
X-WR-CALDESC:Events for Anyanyelvápolók Szövetsége
REFRESH-INTERVAL;VALUE=DURATION:PT1H
X-Robots-Tag:noindex
X-PUBLISHED-TTL:PT1H
BEGIN:VTIMEZONE
TZID:Europe/Budapest
BEGIN:DAYLIGHT
TZOFFSETFROM:+0100
TZOFFSETTO:+0200
TZNAME:CEST
DTSTART:20170326T010000
END:DAYLIGHT
BEGIN:STANDARD
TZOFFSETFROM:+0200
TZOFFSETTO:+0100
TZNAME:CET
DTSTART:20171029T010000
END:STANDARD
END:VTIMEZONE
BEGIN:VEVENT
DTSTART;TZID=Europe/Budapest:20170515T180000
DTEND;TZID=Europe/Budapest:20170515T200000
DTSTAMP:20260423T205131
CREATED:20170511T205544Z
LAST-MODIFIED:20181007T193745Z
UID:19854-1494871200-1494878400@anyanyelvapolo.hu
SUMMARY:Tavaszi irodalmi gála a Pesti Vigadóban
DESCRIPTION:A Magyar Művészeti Akadémia nevében tisztelettel meghívjuk Önt és partnerét az MMA Irodalmi Tagozatának rendezvényére.\nIdőpont:\n2017. május 15. (hétfő) 18.00 óra\nHelyszín:\nA Magyar Művészeti Akadémia székháza\, a Pesti Vigadó díszterme\n(1051 Budapest\, Vigadó tér 2.)\nÁgh István\, Bogdán László\, Czakó Gábor\, Füzesi Magda\, Gál Sándor\, Jókai Anna\, Király László\, Kiss Anna\, Kodolányi Gyula\, Mezey Katalin\, Tamás Menyhért\, Tornai József\, Tóth Erzsébet és Vári Fábián László az MMA rendes tagjai\, továbbá Nagy Gáspár\, az MMA posztumusz tiszteleti tagjának műveiből készült vers- és próza-összeállítások. \nKubik Anna\, Oberfrank Pál\, Ráckevei Anna és Rátóti Zoltán színművészek\, az MMA rendes tagjai\, valamint Újhelyi Kinga színművész előadásában. \nMűsorvezetők:\nBódi Mátyás és Morvai Noémi\nIrodalmi beszélgetések Prőhle Gergellyel\, a Petőfi Irodalmi Múzeum igazgatójával az Arany János-emlékévről\, valamint Kodolányi Gyulával\, az MMA rendes tagjával a DOWN FELL THE STATUE OF GOLIATH – Hungarian Poets and Writers on the Revolution of 1956 címmel megjelent 56-os irodalmi antológia megjelenéséről. \nKözreműködik: a Misztrál együttes \nAz estet Wiegmann Alfréd szerkesztette. \nRendező: Rátóti Zoltán\, az MMA rendes tagja \nA belépés előzetes regisztráció esetén díjmentes. Kérjük\, hogy részvételi szándékát a sarnyai.andrea@mma.hu címre vagy a 30/204-3634 telefonszámon szíveskedjék jelezni!
URL:https://anyanyelvapolo.hu/esemenyek/tavaszi-irodalmi-gala-2017/
LOCATION:Vigadó\, Vigadó tér 2.\, Budapest\, 1051\, Magyarország
CATEGORIES:Események
ATTACH;FMTTYPE=image/jpeg:https://anyanyelvapolo.hu/wp-content/uploads/vigado-mnyn.jpg
ORGANIZER;CN="Magyar M%C5%B1v%C3%A9szeti Akad%C3%A9mia":MAILTO:sarnyai.andrea@mma.hu
GEO:47.4958449;19.0491643
X-APPLE-STRUCTURED-LOCATION;VALUE=URI;X-ADDRESS=Vigadó Vigadó tér 2. Budapest 1051 Magyarország;X-APPLE-RADIUS=500;X-TITLE=Vigadó tér 2.:geo:19.0491643,47.4958449
END:VEVENT
END:VCALENDAR