BEGIN:VCALENDAR
VERSION:2.0
PRODID:-//Anyanyelvápolók Szövetsége - ECPv6.8.3//NONSGML v1.0//EN
CALSCALE:GREGORIAN
METHOD:PUBLISH
X-WR-CALNAME:Anyanyelvápolók Szövetsége
X-ORIGINAL-URL:https://anyanyelvapolo.hu
X-WR-CALDESC:Events for Anyanyelvápolók Szövetsége
REFRESH-INTERVAL;VALUE=DURATION:PT1H
X-Robots-Tag:noindex
X-PUBLISHED-TTL:PT1H
BEGIN:VTIMEZONE
TZID:Europe/Budapest
BEGIN:DAYLIGHT
TZOFFSETFROM:+0100
TZOFFSETTO:+0200
TZNAME:CEST
DTSTART:20170326T010000
END:DAYLIGHT
BEGIN:STANDARD
TZOFFSETFROM:+0200
TZOFFSETTO:+0100
TZNAME:CET
DTSTART:20171029T010000
END:STANDARD
END:VTIMEZONE
BEGIN:VEVENT
DTSTART;TZID=Europe/Budapest:20170618T140000
DTEND;TZID=Europe/Budapest:20170624T100000
DTSTAMP:20260423T191129
CREATED:20170504T082030Z
LAST-MODIFIED:20181007T193712Z
UID:19783-1497794400-1498298400@anyanyelvapolo.hu
SUMMARY:XXVI. Péchy Blanka anyanyelvi tábor
DESCRIPTION:Örömmel értesítjük\, hogy a Boglári Általános Iskolában ismét lesz Péchy Blanka tábor\, amelyre meghívjuk iskolájuk beszédművelő körének tagjait.\nA jelentkezési lap ide kattintva tölthető le. \nJelentkezési határidő: 2017. május 30. \nProgramunk: \n\n2017. június 18. érkezés\, szállás elfoglalása 14.00 órától\, majd vacsora.\nJúnius 19–23-ig délelőttönként előadások\, vetélkedők\, barkácsolás stb.\, majd szabadidős programok: strandolás\, kirándulás. Este vers- és prózamondó-\, Kazinczy-verseny\, ki mit tud?\, táncház.\nJúnius 24-én reggeli\, hazautazás\, szállás átadása 10.00 óráig.
URL:https://anyanyelvapolo.hu/esemenyek/xxvi-pechy-blanka-anyanyelvi-tabor/
LOCATION:3988
CATEGORIES:Táborok
ATTACH;FMTTYPE=image/jpeg:https://anyanyelvapolo.hu/wp-content/uploads/asz-link-altalanos.jpg
ORGANIZER;CN="Anyanyelv%C3%A1pol%C3%B3k Sz%C3%B6vets%C3%A9ge":MAILTO:posta@anyanyelvapolo.hu
END:VEVENT
END:VCALENDAR