BEGIN:VCALENDAR
VERSION:2.0
PRODID:-//Anyanyelvápolók Szövetsége - ECPv6.8.3//NONSGML v1.0//EN
CALSCALE:GREGORIAN
METHOD:PUBLISH
X-WR-CALNAME:Anyanyelvápolók Szövetsége
X-ORIGINAL-URL:https://anyanyelvapolo.hu
X-WR-CALDESC:Events for Anyanyelvápolók Szövetsége
REFRESH-INTERVAL;VALUE=DURATION:PT1H
X-Robots-Tag:noindex
X-PUBLISHED-TTL:PT1H
BEGIN:VTIMEZONE
TZID:Europe/Budapest
BEGIN:DAYLIGHT
TZOFFSETFROM:+0100
TZOFFSETTO:+0200
TZNAME:CEST
DTSTART:20180325T010000
END:DAYLIGHT
BEGIN:STANDARD
TZOFFSETFROM:+0200
TZOFFSETTO:+0100
TZNAME:CET
DTSTART:20181028T010000
END:STANDARD
END:VTIMEZONE
BEGIN:VEVENT
DTSTART;TZID=Europe/Budapest:20180217T103000
DTEND;TZID=Europe/Budapest:20180217T153000
DTSTAMP:20260423T055307
CREATED:20180103T192406Z
LAST-MODIFIED:20181007T193557Z
UID:22409-1518863400-1518881400@anyanyelvapolo.hu
SUMMARY:V. Kárpát-medencei ifjúsági anyanyelvi parlament
DESCRIPTION:2018. február 17-én\, szombaton 10.30-tól rendezi meg az ifjúsági tagozat az V. Kárpát-medencei Ifjúsági Anyanyelvi Parlamentet Budapesten\, a Baár–Madas Református Gimnáziumban. Az Országos Ifjúsági Anyanyelvi Parlament 20 éves múltra tekint vissza. Az idei a 25. alkalom\, tanácskozásunk 2013 óta kiszélesedett a teljes Kárpát-medencére.\n \nA helyi csoportok képviselőinek számát nem korlátozzuk\, fiatal szövetségi tagjaink alanyi jogon lehetnek ott az eseményen. Szívesen vennénk\, ha a helyi tagozatok\, közösségek vezetői – tanácskozási jogukkal élve – részt vennének a konferencián\, s felszólalásukkal is segítenék az ifjúsági tagozat munkáját. \nA tervezett napirend: \n\nKöszöntők\nA határozatképesség megállapítása\, a napirend elfogadása\nBeszámoló az Ifjúsági Tagozat munkájáról\nTájékoztató az Anyanyelvápolók Szövetségéről\nBeszámoló a Kazinczy-díj Alapítványról és a Beszélni nehéz! mozgalomról\n\n      – ebédszünet – \n\nHozzászólások\nHatározathozatal\nZárszó\n\nKérjük\, legkésőbb január 28-ig e-mailben (aszisz@anyanyelvapolo.hu)\, vagy levélben (1022 Budapest\, Lorántffy Zsuzsanna utca 3.) jelezze\, részt vesz-e a tanácskozáson.
URL:https://anyanyelvapolo.hu/esemenyek/v-karpat-medencei-ifjusagi-anyanyelvi-parlament-2/
LOCATION:3988
CATEGORIES:Események
ATTACH;FMTTYPE=image/jpeg:https://anyanyelvapolo.hu/wp-content/uploads/2013-ip.jpg
ORGANIZER;CN="Anyanyelv%C3%A1pol%C3%B3k Sz%C3%B6vets%C3%A9ge Ifj%C3%BAs%C3%A1gi Tagozat":MAILTO:aszisz@anyanyelvapolo.hu
END:VEVENT
END:VCALENDAR