BEGIN:VCALENDAR
VERSION:2.0
PRODID:-//Anyanyelvápolók Szövetsége - ECPv6.8.3//NONSGML v1.0//EN
CALSCALE:GREGORIAN
METHOD:PUBLISH
X-ORIGINAL-URL:https://anyanyelvapolo.hu
X-WR-CALDESC:Events for Anyanyelvápolók Szövetsége
REFRESH-INTERVAL;VALUE=DURATION:PT1H
X-Robots-Tag:noindex
X-PUBLISHED-TTL:PT1H
BEGIN:VTIMEZONE
TZID:Europe/Budapest
BEGIN:DAYLIGHT
TZOFFSETFROM:+0100
TZOFFSETTO:+0200
TZNAME:CEST
DTSTART:20180325T010000
END:DAYLIGHT
BEGIN:STANDARD
TZOFFSETFROM:+0200
TZOFFSETTO:+0100
TZNAME:CET
DTSTART:20181028T010000
END:STANDARD
END:VTIMEZONE
BEGIN:VEVENT
DTSTART;TZID=Europe/Budapest:20181109T140000
DTEND;TZID=Europe/Budapest:20181110T130000
DTSTAMP:20260422T152317
CREATED:20180913T185600Z
LAST-MODIFIED:20181007T193212Z
UID:23465-1541772000-1541854800@anyanyelvapolo.hu
SUMMARY:19. Kárpát-medencei Kossuth-szónokverseny
DESCRIPTION:Az ELTE Tanító- és Óvóképző Kar Magyar Nyelvi és Irodalmi Tanszéke\, az Anyanyelvápolók Szövetsége és a Magyar Nyelv és Kultúra Nemzetközi Társaság meghirdeti a 19. Kárpát-medencei Kossuth-szónokversenyt a pedagógusképző intézmények\, a bölcsészettudományi karok nappali tagozatos hallgatói\, a joghallgatók\, a teológushallgatók számára.\nA verseny időpontja: 2018. november 9–10. \nA verseny helyszíne: ELTE Tanító- és Óvóképző Kar (1126 Budapest\, Kiss János altábornagy u. 40.\, 200-as terem) \nA jelentkezési határidő: 2018. október 15. \nA részletes felhívás\, a versenyszabályzat és a jelentkezési lap az ELTE Tanító- és Óvóképző Kar honlapjáról tölthető le.
URL:https://anyanyelvapolo.hu/esemenyek/19-karpat-medencei-kossuth-szonokverseny-2018/
LOCATION:ELTE Tanító- és Óvóképző Kar\, Kiss János altábornagy utca 40.\, Budapest\, 1126
CATEGORIES:Események,Versenyek
ATTACH;FMTTYPE=image/jpeg:https://anyanyelvapolo.hu/wp-content/uploads/2014-kossuth-szonokverseny-3.jpg
GEO:47.4920501;19.0190611
X-APPLE-STRUCTURED-LOCATION;VALUE=URI;X-ADDRESS=ELTE Tanító- és Óvóképző Kar Kiss János altábornagy utca 40. Budapest 1126;X-APPLE-RADIUS=500;X-TITLE=Kiss János altábornagy utca 40.:geo:19.0190611,47.4920501
END:VEVENT
BEGIN:VEVENT
DTSTART;TZID=Europe/Budapest:20181110T100000
DTEND;TZID=Europe/Budapest:20181110T140000
DTSTAMP:20260422T152317
CREATED:20180913T180406Z
LAST-MODIFIED:20181007T193201Z
UID:23461-1541844000-1541858400@anyanyelvapolo.hu
SUMMARY:Péchy Blanka-emléknap és -verseny a Gundelben
DESCRIPTION:2018. november 10-én 30. alkalommal várja a Gundel Károly Vendéglátóipari és Idegenforgalmi Szakképző Iskola a versenyző kedvű\, az anyanyelv iránt érdeklődő diákokat a Péchy Blanka-emléknap alkalmából.
URL:https://anyanyelvapolo.hu/esemenyek/pechy-blanka-emleknap-es-verseny-a-gundelben-2018/
LOCATION:Gundel Károly Vendéglátóipari és Idegenforgalmi Szakképző Iskola\, Ecseri út 7.\, Budapest\, 1097\, Magyarország
CATEGORIES:Versenyek
ATTACH;FMTTYPE=image/jpeg:https://anyanyelvapolo.hu/wp-content/uploads/pechy-blanka-emleknap-gundel-2014.jpg
GEO:47.468663;19.107067
X-APPLE-STRUCTURED-LOCATION;VALUE=URI;X-ADDRESS=Gundel Károly Vendéglátóipari és Idegenforgalmi Szakképző Iskola Ecseri út 7. Budapest 1097 Magyarország;X-APPLE-RADIUS=500;X-TITLE=Ecseri út 7.:geo:19.107067,47.468663
END:VEVENT
END:VCALENDAR