BEGIN:VCALENDAR
VERSION:2.0
PRODID:-//Anyanyelvápolók Szövetsége - ECPv6.8.3//NONSGML v1.0//EN
CALSCALE:GREGORIAN
METHOD:PUBLISH
X-ORIGINAL-URL:https://anyanyelvapolo.hu
X-WR-CALDESC:Events for Anyanyelvápolók Szövetsége
REFRESH-INTERVAL;VALUE=DURATION:PT1H
X-Robots-Tag:noindex
X-PUBLISHED-TTL:PT1H
BEGIN:VTIMEZONE
TZID:Europe/Budapest
BEGIN:DAYLIGHT
TZOFFSETFROM:+0100
TZOFFSETTO:+0200
TZNAME:CEST
DTSTART:20190331T010000
END:DAYLIGHT
BEGIN:STANDARD
TZOFFSETFROM:+0200
TZOFFSETTO:+0100
TZNAME:CET
DTSTART:20191027T010000
END:STANDARD
END:VTIMEZONE
BEGIN:VEVENT
DTSTART;TZID=Europe/Budapest:20190809T170000
DTEND;TZID=Europe/Budapest:20190818T090000
DTSTAMP:20260420T010125
CREATED:20190308T173802Z
LAST-MODIFIED:20201118T130648Z
UID:26198-1565370000-1566118800@anyanyelvapolo.hu
SUMMARY:XXVII. Országos Ifjúsági Anyanyelvi Tábor
DESCRIPTION:A nyári egyhetes rendezvényen idén is neves előadók\, ismert színművészek osztják meg tudásukat\, gondolataikat a hallgatósággal\, a táborozók megismerhetik A Magyar Nyelv Múzeumát\, Sátoraljaújhely nevezetességeit\, a környékbeli települések látnivalóit\, valamint jó hangulatú akadályversenyen\, foglalkozásokon\, vetélkedőkön és táncházon vehetnek részt.\nA részletes tábori program ide kattintva olvasható.
URL:https://anyanyelvapolo.hu/esemenyek/xxvii-orszagos-ifjusagi-anyanyelvi-tabor/
LOCATION:A Magyar Nyelv Múzeuma\, Kazinczy utca 275.\, Széphalom\, 3988\, Magyarország
CATEGORIES:Táborok
ATTACH;FMTTYPE=image/jpeg:https://anyanyelvapolo.hu/wp-content/uploads/nyelvmuzeum_kulso_4_800.jpg
ORGANIZER;CN="Anyanyelv%C3%A1pol%C3%B3k Sz%C3%B6vets%C3%A9ge":MAILTO:posta@anyanyelvapolo.hu
GEO:48.436182;21.625514
X-APPLE-STRUCTURED-LOCATION;VALUE=URI;X-ADDRESS=A Magyar Nyelv Múzeuma Kazinczy utca 275. Széphalom 3988 Magyarország;X-APPLE-RADIUS=500;X-TITLE=Kazinczy utca 275.:geo:21.625514,48.436182
END:VEVENT
END:VCALENDAR