BEGIN:VCALENDAR
VERSION:2.0
PRODID:-//Anyanyelvápolók Szövetsége - ECPv6.8.3//NONSGML v1.0//EN
CALSCALE:GREGORIAN
METHOD:PUBLISH
X-ORIGINAL-URL:https://anyanyelvapolo.hu
X-WR-CALDESC:Events for Anyanyelvápolók Szövetsége
REFRESH-INTERVAL;VALUE=DURATION:PT1H
X-Robots-Tag:noindex
X-PUBLISHED-TTL:PT1H
BEGIN:VTIMEZONE
TZID:Europe/Budapest
BEGIN:DAYLIGHT
TZOFFSETFROM:+0100
TZOFFSETTO:+0200
TZNAME:CEST
DTSTART:20190331T010000
END:DAYLIGHT
BEGIN:STANDARD
TZOFFSETFROM:+0200
TZOFFSETTO:+0100
TZNAME:CET
DTSTART:20191027T010000
END:STANDARD
END:VTIMEZONE
BEGIN:VEVENT
DTSTART;TZID=Europe/Budapest:20191108T140000
DTEND;TZID=Europe/Budapest:20191109T140000
DTSTAMP:20260419T203807
CREATED:20190624T055835Z
LAST-MODIFIED:20190624T055835Z
UID:27220-1573221600-1573308000@anyanyelvapolo.hu
SUMMARY:20. Kárpát-medencei Kossuth-szónokverseny
DESCRIPTION:Az ELTE Tanító- és Óvóképző Kar Magyar Nyelvi és Irodalmi Tanszéke\, az Anyanyelvápolók Szövetsége és a Magyar Nyelv és Kultúra Nemzetközi Társaság meghirdeti a 20. Kárpát-medencei Kossuth-szónokversenyt a pedagógusképző intézmények\, a bölcsészettudományi karok nappali tagozatos hallgatói\, a joghallgatók\, a teológushallgatók számára.\nA verseny időpontja: 2019. november 8–9. \nA verseny helyszíne: ELTE Tanító- és Óvóképző Kar (1126 Budapest\, Kiss János altábornagy u. 40.\, 200-as terem) \nA jelentkezési határidő: 2019. október 15. \nA részletes felhívás\, a versenyszabályzat és a jelentkezési lap az ELTE Tanító- és Óvóképző Kar honlapjáról tölthető le.
URL:https://anyanyelvapolo.hu/esemenyek/20-karpat-medencei-kossuth-szonokverseny-2019/
LOCATION:ELTE Tanító- és Óvóképző Kar\, Kiss János altábornagy utca 40.\, Budapest\, 1126
CATEGORIES:Események,Versenyek
ATTACH;FMTTYPE=image/jpeg:https://anyanyelvapolo.hu/wp-content/uploads/2014-kossuth-szonokverseny-3.jpg
GEO:47.4920501;19.0190611
X-APPLE-STRUCTURED-LOCATION;VALUE=URI;X-ADDRESS=ELTE Tanító- és Óvóképző Kar Kiss János altábornagy utca 40. Budapest 1126;X-APPLE-RADIUS=500;X-TITLE=Kiss János altábornagy utca 40.:geo:19.0190611,47.4920501
END:VEVENT
END:VCALENDAR