BEGIN:VCALENDAR
VERSION:2.0
PRODID:-//Anyanyelvápolók Szövetsége - ECPv6.8.3//NONSGML v1.0//EN
CALSCALE:GREGORIAN
METHOD:PUBLISH
X-ORIGINAL-URL:https://anyanyelvapolo.hu
X-WR-CALDESC:Events for Anyanyelvápolók Szövetsége
REFRESH-INTERVAL;VALUE=DURATION:PT1H
X-Robots-Tag:noindex
X-PUBLISHED-TTL:PT1H
BEGIN:VTIMEZONE
TZID:Europe/Budapest
BEGIN:DAYLIGHT
TZOFFSETFROM:+0100
TZOFFSETTO:+0200
TZNAME:CEST
DTSTART:20190331T010000
END:DAYLIGHT
BEGIN:STANDARD
TZOFFSETFROM:+0200
TZOFFSETTO:+0100
TZNAME:CET
DTSTART:20191027T010000
END:STANDARD
END:VTIMEZONE
BEGIN:VEVENT
DTSTART;TZID=Europe/Budapest:20191128T180000
DTEND;TZID=Europe/Budapest:20191128T200000
DTSTAMP:20260419T191351
CREATED:20191027T205014Z
LAST-MODIFIED:20191027T211644Z
UID:27943-1574964000-1574971200@anyanyelvapolo.hu
SUMMARY:Nyelvőrző Szalon 37.
DESCRIPTION:Novemberben kedves vendéget köszönthetünk a Nyelvőrző Szalonban Bordi András személyében\, akit a közmédia főbemondójaként is tisztelhetünk.\n \nEzt a kitüntető címet az idén március 15-én vehette át együtt a Wacha Imre-díjjal.   Wacha tanár úr emlékére\, aki rádiós és televíziós beszélők több nemzedékét oktatta a helyes és értelmes magyar beszédre\, az idén alapítottak díjat\, ezt vehette át elsőként Bordi András\, aki a tanár úrnak talán legkedvesebb tanítványa volt.  Hallunk majd az Édes Anyanyelvünk c. rádióműsor műhelytitkairól\, Bordi András szerteágazó anyanyelvi tevékenységéről\, de nem maradhatnak el az énekelt versek sem\, amelyek már szinte András védjegyévé váltak.\nAz estre szeretettel várják a törzsvendégeket és az új érdeklődőket a Szalon házigazdái Matula Ágnes\, Józsa Judit és Kerekes Barnabás. \nA belépés díjtalan!
URL:https://anyanyelvapolo.hu/esemenyek/nyelvorzo-szalon-37/
LOCATION:Józsa Judit Galéria\, Városház utca 1.\, Budapest\, 1052\, Magyarország
CATEGORIES:Nyelvőrző Szalon
ATTACH;FMTTYPE=image/jpeg:https://anyanyelvapolo.hu/wp-content/uploads/bordia.jpg
ORGANIZER;CN="Anyanyelv%C3%A1pol%C3%B3k Sz%C3%B6vets%C3%A9ge":MAILTO:posta@anyanyelvapolo.hu
GEO:47.4937905;19.0565499
X-APPLE-STRUCTURED-LOCATION;VALUE=URI;X-ADDRESS=Józsa Judit Galéria Városház utca 1. Budapest 1052 Magyarország;X-APPLE-RADIUS=500;X-TITLE=Városház utca 1.:geo:19.0565499,47.4937905
END:VEVENT
END:VCALENDAR