BEGIN:VCALENDAR
VERSION:2.0
PRODID:-//Anyanyelvápolók Szövetsége - ECPv6.8.3//NONSGML v1.0//EN
CALSCALE:GREGORIAN
METHOD:PUBLISH
X-ORIGINAL-URL:https://anyanyelvapolo.hu
X-WR-CALDESC:Events for Anyanyelvápolók Szövetsége
REFRESH-INTERVAL;VALUE=DURATION:PT1H
X-Robots-Tag:noindex
X-PUBLISHED-TTL:PT1H
BEGIN:VTIMEZONE
TZID:Europe/Budapest
BEGIN:DAYLIGHT
TZOFFSETFROM:+0100
TZOFFSETTO:+0200
TZNAME:CEST
DTSTART:20190331T010000
END:DAYLIGHT
BEGIN:STANDARD
TZOFFSETFROM:+0200
TZOFFSETTO:+0100
TZNAME:CET
DTSTART:20191027T010000
END:STANDARD
END:VTIMEZONE
BEGIN:VEVENT
DTSTART;TZID=Europe/Budapest:20191130T100000
DTEND;TZID=Europe/Budapest:20191130T140000
DTSTAMP:20260419T204219
CREATED:20191017T195258Z
LAST-MODIFIED:20191017T195322Z
UID:27478-1575108000-1575122400@anyanyelvapolo.hu
SUMMARY:Péchy Blanka-emléknap és -verseny a Gundelben
DESCRIPTION:2018. november 30-án 31. alkalommal várja a Gundel Károly Vendéglátóipari és Idegenforgalmi Szakképző Iskola a versenyző kedvű\, az anyanyelv iránt érdeklődő diákokat a Péchy Blanka-emléknap alkalmából.
URL:https://anyanyelvapolo.hu/esemenyek/pechy-blanka-emleknap-es-verseny-a-gundelben-2019/
LOCATION:Gundel Károly Vendéglátóipari és Idegenforgalmi Szakképző Iskola\, Ecseri út 7.\, Budapest\, 1097\, Magyarország
CATEGORIES:Versenyek
ATTACH;FMTTYPE=image/jpeg:https://anyanyelvapolo.hu/wp-content/uploads/pechy-blanka-emleknap-gundel-2014.jpg
GEO:47.468663;19.107067
X-APPLE-STRUCTURED-LOCATION;VALUE=URI;X-ADDRESS=Gundel Károly Vendéglátóipari és Idegenforgalmi Szakképző Iskola Ecseri út 7. Budapest 1097 Magyarország;X-APPLE-RADIUS=500;X-TITLE=Ecseri út 7.:geo:19.107067,47.468663
END:VEVENT
END:VCALENDAR