BEGIN:VCALENDAR
VERSION:2.0
PRODID:-//Anyanyelvápolók Szövetsége - ECPv6.8.3//NONSGML v1.0//EN
CALSCALE:GREGORIAN
METHOD:PUBLISH
X-ORIGINAL-URL:https://anyanyelvapolo.hu
X-WR-CALDESC:Events for Anyanyelvápolók Szövetsége
REFRESH-INTERVAL;VALUE=DURATION:PT1H
X-Robots-Tag:noindex
X-PUBLISHED-TTL:PT1H
BEGIN:VTIMEZONE
TZID:Europe/Budapest
BEGIN:DAYLIGHT
TZOFFSETFROM:+0100
TZOFFSETTO:+0200
TZNAME:CEST
DTSTART:20200329T010000
END:DAYLIGHT
BEGIN:STANDARD
TZOFFSETFROM:+0200
TZOFFSETTO:+0100
TZNAME:CET
DTSTART:20201025T010000
END:STANDARD
END:VTIMEZONE
BEGIN:VEVENT
DTSTART;VALUE=DATE:20200320
DTEND;VALUE=DATE:20200323
DTSTAMP:20260419T144008
CREATED:20200122T204423Z
LAST-MODIFIED:20201118T211421Z
UID:28914-1584662400-1584921599@anyanyelvapolo.hu
SUMMARY:XXV. Aranka György Nyelv- és Beszédművelő Verseny
DESCRIPTION:A Georgius Aranka Társaság és az Apáczai Csere János Elméleti Líceum ezúton értesít minden érintett diákot\, felkészítő tanárt\, hogy a március 20–22-re tervezett Aranka-versenyt elhalasztjuk. További intézkedésekről mindenkit időben értesítünk.\nKolozsváron az Apáczai Csere János Elméleti Líceumban 25. alkalommal rendezik meg idén az Aranka György Nyelv- és Beszédművelő Versenyt\, ahol erdélyi középiskolás diákok szép magyar beszéd\, édes anyanyelvünk és versben bujdosó kategóriában mérik össze tudásukat. A szép magyar beszéd és az édes anyanyelvünk kategória győztesei a magyarországi döntőkre jutnak tovább.\nTovábbi részletek a Georgius Aranka Társaság honlapján!
URL:https://anyanyelvapolo.hu/esemenyek/xxiii-aranka-gyorgy-nyelv-es-beszedmuvelo-verseny-2020/
LOCATION:Apáczai Csere János Elméleti Líceum\, Strada Ion I. C. Brătianu 26.\, Kolozsvár\, 400079\, Romania
CATEGORIES:Versenyek
ATTACH;FMTTYPE=image/jpeg:https://anyanyelvapolo.hu/wp-content/uploads/esemeny-aranka2014.jpg
GEO:46.7688262;23.593713
X-APPLE-STRUCTURED-LOCATION;VALUE=URI;X-ADDRESS=Apáczai Csere János Elméleti Líceum Strada Ion I. C. Brătianu 26. Kolozsvár 400079 Romania;X-APPLE-RADIUS=500;X-TITLE=Strada Ion I. C. Brătianu 26.:geo:23.593713,46.7688262
END:VEVENT
BEGIN:VEVENT
DTSTART;TZID=Europe/Budapest:20200321T100000
DTEND;TZID=Europe/Budapest:20200321T160000
DTSTAMP:20260419T144008
CREATED:20200122T203805Z
LAST-MODIFIED:20200122T203805Z
UID:28910-1584784800-1584806400@anyanyelvapolo.hu
SUMMARY:II. Kárpát-medencei korrektorverseny
DESCRIPTION:A verseny célja:\nA sajtó helyesírási kultúrájának emeléséért népszerű\, vonzó korrektorversenyt hirdetünk\, amelyen összemérhetik tudásukat a korrektorként elhelyezkedni kívánó egyének és az egyes médiumoknál már korrektorként tevékenykedők. A tavalyi versenyhez hasonlóan\, de sok tekintetben megújulva hirdetjük újra versenyünket. \nA verseny lebonyolítása:\nA verseny két részből áll: egy rövid helyesírási tesztből és egy szövegjavításból. A korrektorversenyt korszerű informatikai technikával bonyolítjuk le. A versenyzők a saját laptopjukkal dolgoznak\, erre tölthetik le a teszteket és a javítandó szöveget. A feladat elvégzésekor saját maguk véglegesítik és küldik be a tesztet és a javítást\, amit a szakmai javítók ellenőriznek és pontoznak. Minden javítás nyilvános és ellenőrizhető. \n\nMeghirdetett díjak:\nAz adott év három\, szakmailag legjobb korrektora megkapja „Az év korrektora 2020” címet\, amelyet egy igazolással a birtokában használhat. Ezzel a célunk\, hogy a lapok az impresszumukban is feltüntessék ezt a kitüntetést\, amely a kiadvány nyelvi minőségi színvonalát garantálja. A verseny fődíja egy háromnapos wellnesshétvége négycsillagos szállodában\, a második helyezett egy notebookot\, a harmadik e-book-olvasót kap. Az első tíz helyezett értékes könyvjutalomban részesül. \n\nA bírálóbizottság tagjai:\nA korrektorverseny szakmai hátterét és minőségi színvonalát továbbra is a magyar helyesírás legjobb szakembereiből álló bírálóbizottság biztosítja. \n\nKeszler Borbála professor emerita\, a 12. helyesírási szabályzat főszerkesztője\, a zsűri elnöke;\nKiss Róbert Richárd Prima Primissima díjas újságíró;\nMinya Károly főiskolai tanár\, több helyesírási tankönyv szerzője\, a verseny ötletgazdája;\nVeszelszki Ágnes egyetemi docens\, a digilektus és marketingkommunikáció kiemelkedő kutatója.\nA szervezőbizottság elnöke: Balázs Géza tanszékvezető egyetemi tanár\, a magyar nyelvstratégia megálmodója.\n\n\nA verseny szakmai támogatója a magyar helyesírás szabályozását évtizedek óta végző ELTE Mai Magyar Nyelvi Tanszéke. A verseny társadalmi elismertségét az Anyanyelvápolók Szövetsége segíti. \nTervezett program:\n10.00     a verseny megnyitása \n10.15     a verseny két fordulója \n12.00     büféebéd \n12.30     szakmai előadás\, workshop \n15.30      ünnepélyes eredményhirdetés \nJelentkezési díj:\n9 500 Ft\, amely tartalmaz minden versenyköltséget\, valamint a szakmai programokon való részvételt. Egyetemi és főiskolai hallgatók számára 50% kedvezményt adunk. \nJelentkezési határidő:\nJelentkezni 2020. február 15-éig e linken lehet.
URL:https://anyanyelvapolo.hu/esemenyek/ii-karpat-medencei-korrektorverseny/
LOCATION:ELTE BTK Kari Tanácsterem\, Múzeum körút 4/A\, Budapest\, 1088\, Magyarország
CATEGORIES:Versenyek
END:VEVENT
END:VCALENDAR