BEGIN:VCALENDAR
VERSION:2.0
PRODID:-//Anyanyelvápolók Szövetsége - ECPv6.8.3//NONSGML v1.0//EN
CALSCALE:GREGORIAN
METHOD:PUBLISH
X-ORIGINAL-URL:https://anyanyelvapolo.hu
X-WR-CALDESC:Events for Anyanyelvápolók Szövetsége
REFRESH-INTERVAL;VALUE=DURATION:PT1H
X-Robots-Tag:noindex
X-PUBLISHED-TTL:PT1H
BEGIN:VTIMEZONE
TZID:Europe/Budapest
BEGIN:DAYLIGHT
TZOFFSETFROM:+0100
TZOFFSETTO:+0200
TZNAME:CEST
DTSTART:20170326T010000
END:DAYLIGHT
BEGIN:STANDARD
TZOFFSETFROM:+0200
TZOFFSETTO:+0100
TZNAME:CET
DTSTART:20171029T010000
END:STANDARD
END:VTIMEZONE
BEGIN:VEVENT
DTSTART;TZID=Europe/Budapest:20170511T150000
DTEND;TZID=Europe/Budapest:20170511T170000
DTSTAMP:20260423T235427
CREATED:20170505T182423Z
LAST-MODIFIED:20181007T193756Z
UID:19808-1494514800-1494522000@anyanyelvapolo.hu
SUMMARY:Rendhagyó nyelvtanóra a nyelvművelés jegyében
DESCRIPTION:Helyszín: Lévay József Református Gimnázium és Diákotthon\, Miskolc\nRendhagyó nyelvtanóra középiskolásoknak\, hogy az anyanyelvi játék segítségével még érdekesebbé tegyük a nyelvművelést. Cél\, hogy a foglalkozás után anyanyelvi klubok\, nyelvművelő körök jöjjenek létre. Fontos továbbá az is\, hogy a fiatalok igényesen használják anyanyelvüket\, odafigyeljenek a megfelelő kommunikációra\, nyelvhasználatra családban\, iskolában és később a munkahelyükön is. \nJátssz velünk\, mert játszva könnyebben bővítheted tudásod! \nAz esemény a Cselekvő közösségek – aktív közösségi szerepvállalás program keretein belül valósul meg.
URL:https://anyanyelvapolo.hu/esemenyek/rendhagyo-nyelvtanora-nyelvmuveles-jegyeben-1/
LOCATION:Lévay József Református Gimnázium és Diákotthon\, Kálvin János utca 2.\, Miskolc\, 3530\, Magyarország
CATEGORIES:Események
ATTACH;FMTTYPE=image/png:https://anyanyelvapolo.hu/wp-content/uploads/kozossegek-hete.png
ORGANIZER;CN="Anyanyelv%C3%A1pol%C3%B3k Sz%C3%B6vets%C3%A9ge":MAILTO:posta@anyanyelvapolo.hu
GEO:48.1011183;20.7810124
X-APPLE-STRUCTURED-LOCATION;VALUE=URI;X-ADDRESS=Lévay József Református Gimnázium és Diákotthon Kálvin János utca 2. Miskolc 3530 Magyarország;X-APPLE-RADIUS=500;X-TITLE=Kálvin János utca 2.:geo:20.7810124,48.1011183
END:VEVENT
BEGIN:VEVENT
DTSTART;TZID=Europe/Budapest:20170512T100000
DTEND;TZID=Europe/Budapest:20170512T120000
DTSTAMP:20260423T235427
CREATED:20170505T182606Z
LAST-MODIFIED:20181007T193749Z
UID:19815-1494583200-1494590400@anyanyelvapolo.hu
SUMMARY:Rendhagyó nyelvtanóra a nyelvművelés jegyében
DESCRIPTION:Helyszín: Lévay József Református Gimnázium és Diákotthon\, Miskolc\nRendhagyó nyelvtanóra középiskolásoknak\, hogy\, az anyanyelvi játék segítségével még érdekesebbé tegyük a nyelvművelést. Cél\, hogy a foglalkozás után anyanyelvi klubok\, nyelvművelő körök jöjjenek létre. Fontos továbbá az is\, hogy a fiatalok igényesen használják anyanyelvüket\, odafigyeljenek a megfelelő kommunikációra\, nyelvhasználatra családban\, iskolában és később a munkahelyükön is. \nJátssz velünk\, mert játszva könnyebben bővítheted tudásod! \nAz esemény a Cselekvő közösségek – aktív közösségi szerepvállalás program keretein belül valósul meg.
URL:https://anyanyelvapolo.hu/esemenyek/rendhagyo-nyelvtanora-a-nyelvmuveles-jegyeben-2/
LOCATION:Lévay József Református Gimnázium és Diákotthon\, Kálvin János utca 2.\, Miskolc\, 3530\, Magyarország
CATEGORIES:Események
ATTACH;FMTTYPE=image/png:https://anyanyelvapolo.hu/wp-content/uploads/kozossegek-hete.png
ORGANIZER;CN="Anyanyelv%C3%A1pol%C3%B3k Sz%C3%B6vets%C3%A9ge":MAILTO:posta@anyanyelvapolo.hu
GEO:48.1011183;20.7810124
X-APPLE-STRUCTURED-LOCATION;VALUE=URI;X-ADDRESS=Lévay József Református Gimnázium és Diákotthon Kálvin János utca 2. Miskolc 3530 Magyarország;X-APPLE-RADIUS=500;X-TITLE=Kálvin János utca 2.:geo:20.7810124,48.1011183
END:VEVENT
END:VCALENDAR