BEGIN:VCALENDAR
VERSION:2.0
PRODID:-//Anyanyelvápolók Szövetsége - ECPv6.8.3//NONSGML v1.0//EN
CALSCALE:GREGORIAN
METHOD:PUBLISH
X-ORIGINAL-URL:https://anyanyelvapolo.hu
X-WR-CALDESC:Events for Anyanyelvápolók Szövetsége
REFRESH-INTERVAL;VALUE=DURATION:PT1H
X-Robots-Tag:noindex
X-PUBLISHED-TTL:PT1H
BEGIN:VTIMEZONE
TZID:Europe/Budapest
BEGIN:DAYLIGHT
TZOFFSETFROM:+0100
TZOFFSETTO:+0200
TZNAME:CEST
DTSTART:20210328T010000
END:DAYLIGHT
BEGIN:STANDARD
TZOFFSETFROM:+0200
TZOFFSETTO:+0100
TZNAME:CET
DTSTART:20211031T010000
END:STANDARD
END:VTIMEZONE
BEGIN:VEVENT
DTSTART;TZID=Europe/Budapest:20211104T180000
DTEND;TZID=Europe/Budapest:20211104T200000
DTSTAMP:20260419T161635
CREATED:20211028T181521Z
LAST-MODIFIED:20211028T181521Z
UID:38819-1636048800-1636056000@anyanyelvapolo.hu
SUMMARY:Anyanyelvi szalon fiataloknak 1.
DESCRIPTION:Az Anyanyelvápolók Szövetsége hosszú ideje rendezi a Nyelvőrző szalont a Józsa Judit Galériában. Sokan kérték\, hogy legyen egy program a fiataloknak\, ahol meghívott vendégeinkkel együtt beszélgethetünk anyanyelvünkről\, kultúránkról\, a minket körülvevő világról. A kéthavonta szervezett szalon értelmiségi fiataloknak szól\, és valóban szeretnénk a szalon formáját megtartani: közösséget létrehozni.\n \nElső\, így ünnepi alkalommal\, nov. 4-én 18 órától a médiában sokszor megszólaló\, “Facebookozó\, youtuber” fiatal plébános\, Bese Gergő atya lesz vendégünk.\nSzeretettel várjuk a Szövetség tagjait\, az érdeklődőket. Regisztrálni az anyanyelvi.fiatalok@gmail.com címen lehet.\nA házigazda Blankó Miklós és Józsa Judit.
URL:https://anyanyelvapolo.hu/esemenyek/anyanyelvi-szalon-fiataloknak-1/
LOCATION:Józsa Judit Galéria\, Városház utca 1.\, Budapest\, 1052\, Magyarország
CATEGORIES:Anyanyelvi szalon fiataloknak
ATTACH;FMTTYPE=image/jpeg:https://anyanyelvapolo.hu/wp-content/uploads/anyanyelvi-szalon-fiataloknak-bese-gergo.jpg
ORGANIZER;CN="Anyanyelv%C3%A1pol%C3%B3k Sz%C3%B6vets%C3%A9ge":MAILTO:posta@anyanyelvapolo.hu
GEO:47.4937905;19.0565499
X-APPLE-STRUCTURED-LOCATION;VALUE=URI;X-ADDRESS=Józsa Judit Galéria Városház utca 1. Budapest 1052 Magyarország;X-APPLE-RADIUS=500;X-TITLE=Városház utca 1.:geo:19.0565499,47.4937905
END:VEVENT
END:VCALENDAR