BEGIN:VCALENDAR
VERSION:2.0
PRODID:-//Anyanyelvápolók Szövetsége - ECPv6.8.3//NONSGML v1.0//EN
CALSCALE:GREGORIAN
METHOD:PUBLISH
X-WR-CALNAME:Anyanyelvápolók Szövetsége
X-ORIGINAL-URL:https://anyanyelvapolo.hu
X-WR-CALDESC:Events for Anyanyelvápolók Szövetsége
REFRESH-INTERVAL;VALUE=DURATION:PT1H
X-Robots-Tag:noindex
X-PUBLISHED-TTL:PT1H
BEGIN:VTIMEZONE
TZID:Europe/Budapest
BEGIN:DAYLIGHT
TZOFFSETFROM:+0100
TZOFFSETTO:+0200
TZNAME:CEST
DTSTART:20140330T010000
END:DAYLIGHT
BEGIN:STANDARD
TZOFFSETFROM:+0200
TZOFFSETTO:+0100
TZNAME:CET
DTSTART:20141026T010000
END:STANDARD
END:VTIMEZONE
BEGIN:VEVENT
DTSTART;VALUE=DATE:20140620
DTEND;VALUE=DATE:20140623
DTSTAMP:20260423T131336
CREATED:20140301T221143Z
LAST-MODIFIED:20140618T091606Z
UID:3879-1403222400-1403481599@anyanyelvapolo.hu
SUMMARY:IV. anyanyelvi juniális
DESCRIPTION:Anyanyelvi szervezetek összefogásával negyedik alkalommal rendezzük meg az anyanyelvi juniálist\, Széphalomban\, A Magyar Nyelv Múzeumában. A rendezvény idén is összekapcsolódik a Múzeumok Éjszakája programsorozatával. \n2014. június 20. péntek\n17.00 Nyelvészeti muzeológia. Ismerkedés A Magyar Nyelv Múzeumával (bemutatja: Nyiri Péter)\n18.00 A Kosztolányi-fotókiállítás megnyitása (Akadémiai terem): Megnyitja: Fráter Zoltán irodalomtörténész\nVisszautazás Sátoraljaújhelyre\, vacsora\n20.00 Nyelvészkedő írók (Fráter Zoltán egyetemi docens\, ELTE\, Magyar Irodalomtörténeti Társaság) – gyertyafényes előadás a Kazinczy Múzeumban \n2014. június 21. szombat\n9.30 Irodalmi nyelvünk szülőföldjén. A Magyar Nyelv és Kultúra Nemzetközi Társaságának esszékonferenciája\nKováts Dániel (ny. főiskolai tanár\, ASZ): A Kazinczy-kultusz\nMáté László (ny. tanár): Kassa és a nyelvtudomány\nJuhász Dezső (intézetigazgató\, egyetemi tanár\, ELTE): Sylvester János nyelve és az északkeleti nyelvjárás\n10.30 Pomogáts Béla (irodalomtörténész\, az AK tiszteletbeli elnöke): Cs. Szabó László\nBalázs Géza (egyetemi tanár\, ELTE\, az AK elnöke): Nyelvi kincsek Északkelet-Magyarországon\nBaranyai Katalin (tanár\, Bolyai Műhely Alapítvány): A Sárospataki Kollégium szerepe a nyelvtudományban\n11.30 Fráter Zoltán (egyetemi docens\, ELTE): Ugocsa non coronat sed dicit\nFehér József (igazgató\, Kazinczy Múzeum\, a Kazinczy Ferenc Társaság elnöke): Gyerekkori szófejtéseim (lapok egy meg nem írandó szótárból)\nNyiri Péter (főosztályvezető\, PIM A Magyar Nyelv Múzeuma): Az Írás szól magyarul – a Károli-biblia élő nyelve \n12.00-15.00 Kóstolók a vadételfőző versenyen\n14.00 Az MTVA programja: Korbuly Péter (a Montágh-testület vezetője): A rádiós és televíziós beszédről\n„Itt a hangja\, vigye haza!” Bemutatkozik a „rádióbusz”: bepillantás a műsorkészítés titkaiba.\nNyelvészeti kiadók könyvvására (Tinta\, Magyar Nyelvtudományi Társaság\, Inter\, MSZT)\n16.00 Kiss Róbert Richard (nyelvész\, vállalkozó): Mit gondolnak a magyar nyelvről a világban? \nKazinczy-kert: 18.00 Megemlékezés a Kazinczy-sírkertben\nKazinczy-emlékcsarnok: 19.00 Kosztümös tárlatvezetés Török Zsófiával és Kazinczy Ferenccel az Emlékcsarnokban és a kertben (ASZ ifjúsági szervezete)\n19.00 Dalszövegírás – Hujber Szabolcs interaktív előadása az Akadémiai Teremben\n19.30 Anyanyelvi licitjáték Kerekes Barnabással\n20.15 Élő Tetten ért szavak Balázs Gézával\, Újszászi Bogár Lászlóval\, Pölcz Ádámmal\n21.00 SZABÓ BALÁZS BAND-KONCERT\n22.00 Az év szava kihirdetése (Balázs Géza\, Pölcz Ádám)\nKazinczy-kert 22.15 Néptánc\, 22.30 Tűzugrás\, 23.00 Feltüzelve – Társastáncoktatás \nKísérőprogram: Közös festés: Gárdonyi Géza és Göre Gábor 1\,5 méter x 1\,5 méteres portréja\nBecsomagolt múzeum: nyelvi rejtvények\, nyelvi humor képekben – 3I – Írók Irodalmi Iróniája (Kazinczy Emlékkert) – Botanikai kalandok (Kazinczy Emlékkert) \n2014. június 22. vasárnap\n10.00 Kirándulás autókkal és gyalog Magyarország egyik természeti csodájához (károlyfalvai tengerszem)
URL:https://anyanyelvapolo.hu/esemenyek/iv-anyanyelvi-junialis/
LOCATION:A Magyar Nyelv Múzeuma\, Kazinczy utca 275.\, Széphalom\, 3988\, Magyarország
CATEGORIES:Események
ATTACH;FMTTYPE=image/jpeg:https://anyanyelvapolo.hu/wp-content/uploads/esemeny-junialis2014.jpg
GEO:48.436182;21.625514
X-APPLE-STRUCTURED-LOCATION;VALUE=URI;X-ADDRESS=A Magyar Nyelv Múzeuma Kazinczy utca 275. Széphalom 3988 Magyarország;X-APPLE-RADIUS=500;X-TITLE=Kazinczy utca 275.:geo:21.625514,48.436182
END:VEVENT
END:VCALENDAR