BEGIN:VCALENDAR
VERSION:2.0
PRODID:-//Anyanyelvápolók Szövetsége - ECPv6.8.3//NONSGML v1.0//EN
CALSCALE:GREGORIAN
METHOD:PUBLISH
X-WR-CALNAME:Anyanyelvápolók Szövetsége
X-ORIGINAL-URL:https://anyanyelvapolo.hu
X-WR-CALDESC:Events for Anyanyelvápolók Szövetsége
REFRESH-INTERVAL;VALUE=DURATION:PT1H
X-Robots-Tag:noindex
X-PUBLISHED-TTL:PT1H
BEGIN:VTIMEZONE
TZID:Europe/Budapest
BEGIN:DAYLIGHT
TZOFFSETFROM:+0100
TZOFFSETTO:+0200
TZNAME:CEST
DTSTART:20160327T010000
END:DAYLIGHT
BEGIN:STANDARD
TZOFFSETFROM:+0200
TZOFFSETTO:+0100
TZNAME:CET
DTSTART:20161030T010000
END:STANDARD
END:VTIMEZONE
BEGIN:VEVENT
DTSTART;VALUE=DATE:20160411
DTEND;VALUE=DATE:20160413
DTSTAMP:20260419T233928
CREATED:20160225T204726Z
LAST-MODIFIED:20181007T194136Z
UID:14750-1460332800-1460505599@anyanyelvapolo.hu
SUMMARY:50. magyar nyelv hete
DESCRIPTION:Fővédnök: Áder János köztársasági elnök\n\n\n2016. ÁPRILIS 13. (HÉTFŐ)\n\n\n13.00\nünnepélyes megnyitó\n\n\n14.00\nA magyar nyelvközösség jövője: megmaradás vagy széthullás? – plenáris előadások az Eszterházy Károly Főiskola Comenius Karán (Sárospatak)\n– Balázs Géza: A magyar nyelvközösség jövője \n– Magyari Sára: A határon túli magyar nyelvközösség perspektívái \n– Pusztay János: Kárpát-medencei nyelvközösség sorsa – a nyelvrokonok nézőpontjából\n– Pomozi Péter: Magyar nyelvközösség: széthullás vagy újjászületés\n\n\n\n\n2016. ÁPRILIS 14. (KEDD)\n\n\n10.00\nA magyar nyelv jövője – konferencia a Magyar Nyelv Múzeumában (Széphalom)\n– Dede Éva: Viselkedésformák a nyelvhasználat tükrében\n– Bogár László: A retorika megújítása\n– Pölcz Ádám: A velünk élő retorika\n– Hódi Éva: A magyar nyelvkultúra fenntartása a Vajdaságban\n– Minya Károly: Új jelenségek nyelvünkben\n– Arató Balázs: A magyar jogi nyelv helyzete\n– Horváth Péter Iván: Mitől idegen az idegen nyelv?\n– Szili Katalin: Kulturális nyelvészet és nyelvművelés. Változó értékek\, örök normák?\n– Nyiri Péter: A nyelvművelés és nyelvmúzeum\n\n\n15.00\nA következő 50 év: nyelvstratégiai teendők. A múzeum Akadémia-termében kerekasztal-beszélgetés és állásfoglalás kidolgozása. Vezeti: Balázs Géza.
URL:https://anyanyelvapolo.hu/esemenyek/50-magyar-nyelv-hete/
LOCATION:A Magyar Nyelv Múzeuma\, Kazinczy utca 275.\, Széphalom\, 3988\, Magyarország
CATEGORIES:Események
ATTACH;FMTTYPE=image/jpeg:https://anyanyelvapolo.hu/wp-content/uploads/nyelvmuzeum_kulso_4_800.jpg
ORGANIZER;CN="Anyanyelv%C3%A1pol%C3%B3k Sz%C3%B6vets%C3%A9ge":MAILTO:posta@anyanyelvapolo.hu
GEO:48.436182;21.625514
X-APPLE-STRUCTURED-LOCATION;VALUE=URI;X-ADDRESS=A Magyar Nyelv Múzeuma Kazinczy utca 275. Széphalom 3988 Magyarország;X-APPLE-RADIUS=500;X-TITLE=Kazinczy utca 275.:geo:21.625514,48.436182
END:VEVENT
BEGIN:VEVENT
DTSTART;VALUE=DATE:20160413
DTEND;VALUE=DATE:20160415
DTSTAMP:20260419T233928
CREATED:20160225T202247Z
LAST-MODIFIED:20181007T194132Z
UID:14768-1460505600-1460678399@anyanyelvapolo.hu
SUMMARY:Néphagyomány és nyelvi hagyomány
DESCRIPTION:Folklór és nyelv kapcsolata a Kárpát-medencében\nA sátoraljaújhelyi Magyar Nyelv Múzeumáért Alapítvány konferenciát szervez Néphagyomány és nyelvi hagyomány – Folklór és nyelv kapcsolata a Kárpát-medencében címmel. \nA tanácskozást hagyományteremtőnek szánjuk\, mely időről-időre reprezentatív szakmai fórumot teremt a folklór és nyelv kapcsolatával foglalkozó kutatásoknak. A konferencia meghívott előadói többek közt Voigt Vilmos\, Pusztay János\, Balázs Géza\, Sz. Gazda Enikő\, Iancu Laura. \nAz első konferencia egyúttal tisztelgés Erdélyi Zsuzsanna életműve előtt. Erdélyi Zsuzsanna népi vallásosságot\, archaikus népi imákat feledéstől mentő\, rendszerező életműve nemcsak folklórkincs\, hanem olyan korpusz is\, mely újabb távlatokat nyitott a magyar nyelvtörténeti kutatás számára. A konferencia keretében nyílik meg az „Ott látok egy  aranyágat” – Archaikus népi imáink művészi és nyelvi dimenziói” c. poszterkiállítás\, mely Erdélyi Zsuzsanna munkásságának szellemében e kettős kincset kívánja közelebb hozni minden lehetséges érdeklődőhöz\, túl a konferencia szűkebb szakmai publikumán.\nA konferencia hivatalos nyelve a magyar. Részvételi díj nincs. \nA konferencia programja:\n\n\n\n2016. ÁPRILIS 13. (SZERDA)\n\n\n13.00\nmegnyitó (Nyiri Péter\, Magyar Nyelv Múzeuma; Pomozi Péter\, ELTE BTK)\n\n\n13.15\nVoigt Vilmos (professor emeritus\, ELTE BTK): A magyar népi archaikus imák\n\n\n13.45\nPusztay János (Konstantin Filozófus Egyetem\, Nyitra): Párhuzamok magyar és balti finn népi imádságokban\n\n\n15.15\nPomozi Péter\, Karácsony Fanni (ELTE BTK): Ott látok egy aranyágat – Archaikus népi imáink nyelvi világa\n\n\n15.45\nOtt látok egy aranyágat – Archaikus népi imáink nyelvi világa. Pomozi Péter és Karácsony Fanni poszterkiállításának megnyitása. Megnyitót mond Balázs Géza\, utána kávészünet.\n\n\n16.20\nBalázs Géza (ELTE BTK\, Partiumi Keresztény Egyetem\, PIM): Trója létezik! A nyelvben kódolt hagyomány\n\n\n16.50\nDyekiss Virág (MTA BTK Néprajztudományi Intézet): Verbális és nem-verbális formák a természetfeletti lényekkel való kapcsolattartásban Székelyföldön\n\n\n17.20\nSaypasheva Anastasia (ELTE BTK): Baskíriai mari ráolvasások: verbális és nem-verbális formák\n\n\n17.50\nBaranyiné Kóczy Judit (Patrona Hungariae Katolikus Gimnázium): Népdalok metaforái: a folyók konceptualizációja a magyar népi kultúrában\n\n\n18.20\nIancu Laura (MTA BTK Néprajztudományi Intézet): Világkép\, (nép)költészet\, alkotás a nyelvjárásban\n\n\n19.30\nVacsora az újhelyi Csillagfény panzióban\n\n\n\n\n\n\n2016. ÁPRILIS 14. (CSÜTÖRTÖK)\n\n\n09.30\nBalázs J. Attila (nyelvtanár): Homo spuens – a köpködő ember?\n\n\n10.00\nSzíjártó Éva (Babeş–Bolyai Tudományegyetem): Tejjel-mézzel folyó Kánaán\n\n\n10.30\nMagyary Sára (Partiumi Keresztény Egyetem): A halál nyelvi képe magyar és román folklórszövegekben\n\n\n11.00\nSzőcsné Gazda Enikő (Székely Nemzeti Múzeum): Egy 19. századi kéziratos füzet Csíkdánfalváról. Esetelemzés.\n\n\n11.30\nkávészünet\n\n\n12.00\nÁdám Dóra (Ungvári Nemzeti Egyetem): A születéssel kapcsolatos hagyományok és hiedelmek vizsgálata Korláthelmecen\n\n\n12.20\nVaszecsko Karina (Ungvári Nemzeti Egyetem): Születéssel kapcsolatos hiedelmek és szakszavak Csapon\n\n\n12.40\nGulyás Márk (Ungvári Nemzeti Egyetem): Párválasztási és lakodalmi szokások és szakszavak Tégláson\n\n\n13.00\nPomozi Péter (ELTE BTK): Ott látok egy aranyágat – Archaikus népi imáink nyelvi világa c. könyv ismertetése\n\n\n13.15\nTárlatvezetés (Nyiri Péter): Görbe tükör. Karinthy a kávéházban.Kávészünet.\n\n\n14.15\nHarangozó Imre (Ipolyi Arnold Népfőiskola Kulturális Egyesület): Felhágék egy nagy hegyre…\n\n\n14.45\nVarga Éva Katalin (Semmelweis Egyetem): Ősi hitvilágunk emlékei az alak régi jelentéseiben\n\n\n15.15\nEgey Emese (NYME BDPK\, Szombathely): Zempléni túra a néphagyomány segítségével\n\n\n15.45\nMenyhárt Krisztina (ELTE BTK): A ráolvasás és a népi imádság prozódiai jellemzői\n\n\n16.15\nzárszó (Pusztay János\, Konstantin Filozófus Egyetem\, Nyitra)
URL:https://anyanyelvapolo.hu/esemenyek/nephagyomany-es-nyelvi-hagyomany/
LOCATION:A Magyar Nyelv Múzeuma\, Kazinczy utca 275.\, Széphalom\, 3988\, Magyarország
CATEGORIES:Események
ATTACH;FMTTYPE=image/jpeg:https://anyanyelvapolo.hu/wp-content/uploads/mnym-szephalom.jpg
ORGANIZER;CN="A Magyar Nyelv M%C3%BAzeuma":MAILTO:info@nyelvmuzeum.hu
GEO:48.436182;21.625514
X-APPLE-STRUCTURED-LOCATION;VALUE=URI;X-ADDRESS=A Magyar Nyelv Múzeuma Kazinczy utca 275. Széphalom 3988 Magyarország;X-APPLE-RADIUS=500;X-TITLE=Kazinczy utca 275.:geo:21.625514,48.436182
END:VEVENT
END:VCALENDAR