BEGIN:VCALENDAR
VERSION:2.0
PRODID:-//Anyanyelvápolók Szövetsége - ECPv6.8.3//NONSGML v1.0//EN
CALSCALE:GREGORIAN
METHOD:PUBLISH
X-WR-CALNAME:Anyanyelvápolók Szövetsége
X-ORIGINAL-URL:https://anyanyelvapolo.hu
X-WR-CALDESC:Events for Anyanyelvápolók Szövetsége
REFRESH-INTERVAL;VALUE=DURATION:PT1H
X-Robots-Tag:noindex
X-PUBLISHED-TTL:PT1H
BEGIN:VTIMEZONE
TZID:Europe/Budapest
BEGIN:DAYLIGHT
TZOFFSETFROM:+0100
TZOFFSETTO:+0200
TZNAME:CEST
DTSTART:20200329T010000
END:DAYLIGHT
BEGIN:STANDARD
TZOFFSETFROM:+0200
TZOFFSETTO:+0100
TZNAME:CET
DTSTART:20201025T010000
END:STANDARD
END:VTIMEZONE
BEGIN:VEVENT
DTSTART;TZID=Europe/Budapest:20201106T140000
DTEND;TZID=Europe/Budapest:20201107T140000
DTSTAMP:20260423T063226
CREATED:20200701T184002Z
LAST-MODIFIED:20200701T184157Z
UID:33980-1604671200-1604757600@anyanyelvapolo.hu
SUMMARY:21. Kárpát-medencei Kossuth-szónokverseny
DESCRIPTION:Az ELTE Tanító- és Óvóképző Kar Magyar Nyelvi és Irodalmi Tanszéke\, az Anyanyelvápolók Szövetsége és a Magyar Nyelv és Kultúra Nemzetközi Társaság meghirdeti a 21. Kárpát-medencei Kossuth-szónokversenyt a pedagógusképző intézmények\, a bölcsészettudományi karok nappali tagozatos hallgatói\, a joghallgatók\, a teológushallgatók számára.\nA verseny időpontja: 2020. november 6–7. \nA verseny helyszíne: ELTE Tanító- és Óvóképző Kar (1126 Budapest\, Kiss János altábornagy u. 40.\, 200-as terem) \nA jelentkezési határidő: 2020. október 10. \nA részletes felhívás\, a versenyszabályzat és a jelentkezési lap innen tölthető le.
URL:https://anyanyelvapolo.hu/esemenyek/21-karpat-medencei-kossuth-szonokverseny-2020/
LOCATION:ELTE Tanító- és Óvóképző Kar\, Kiss János altábornagy utca 40.\, Budapest\, 1126
CATEGORIES:Események,Versenyek
ATTACH;FMTTYPE=image/jpeg:https://anyanyelvapolo.hu/wp-content/uploads/2014-kossuth-szonokverseny-3.jpg
GEO:47.4920501;19.0190611
X-APPLE-STRUCTURED-LOCATION;VALUE=URI;X-ADDRESS=ELTE Tanító- és Óvóképző Kar Kiss János altábornagy utca 40. Budapest 1126;X-APPLE-RADIUS=500;X-TITLE=Kiss János altábornagy utca 40.:geo:19.0190611,47.4920501
END:VEVENT
END:VCALENDAR