BEGIN:VCALENDAR
VERSION:2.0
PRODID:-//Anyanyelvápolók Szövetsége - ECPv6.8.3//NONSGML v1.0//EN
CALSCALE:GREGORIAN
METHOD:PUBLISH
X-ORIGINAL-URL:https://anyanyelvapolo.hu
X-WR-CALDESC:Events for Anyanyelvápolók Szövetsége
REFRESH-INTERVAL;VALUE=DURATION:PT1H
X-Robots-Tag:noindex
X-PUBLISHED-TTL:PT1H
BEGIN:VTIMEZONE
TZID:Europe/Budapest
BEGIN:DAYLIGHT
TZOFFSETFROM:+0100
TZOFFSETTO:+0200
TZNAME:CEST
DTSTART:20170326T010000
END:DAYLIGHT
BEGIN:STANDARD
TZOFFSETFROM:+0200
TZOFFSETTO:+0100
TZNAME:CET
DTSTART:20171029T010000
END:STANDARD
END:VTIMEZONE
BEGIN:VEVENT
DTSTART;TZID=Europe/Budapest:20170502T150000
DTEND;TZID=Europe/Budapest:20170502T170000
DTSTAMP:20260423T191158
CREATED:20170427T101556Z
LAST-MODIFIED:20181007T193817Z
UID:19409-1493737200-1493744400@anyanyelvapolo.hu
SUMMARY:"Örülni kell a megtalált szónak..." – könyvbemutató
DESCRIPTION:“Örülni kell a megtalált szónak…” (Kondor Béla)\nmeghívó a Tinta Könyvkiadó könyvbemutatójára\nIdőpont: 2017. május 2.\, kedd 15 óra\nHelyszín: MTA Nyelvtudományi Intézete\, 1068 Budapest\, Benczúr utca 33. földszinti tanácsterem \nA rendezvény előtt 13 órától a TINTA Könyvkiadó könyvei\, szótárai kedvezményesen vásárolhatók meg.\nA bemutató házigazdája Kiss Gábor\, a TINTA Könyvkiadó igazgatója. \nKönyvbemutatók:\n15.00 Köszöntő: PRÓSZÉKY GÁBOR\, az MTA Nyelvtudományi Intézet igazgatója\n15.10 KEMÉNY GÁBOR: Krúdy körül. Stilisztikai tanulmányok és elemzések a 20. századi magyar irodalomról. Bemutatja: POMOGÁTS BÉLA\n15.20 BRASSAI SÁMUEL: Mondattani tanulmányok. II. kötet. Bemutatja: KIEFER FERENC\n15.30 THASS-THIENEMANN TIVADAR: A nyelv interpretációja. A nyelv szimbolikus jelentése. Bemutatja: SIMONCSICS PÉTER\n15.40 ACZÉL PETRA: Neked van igazad? Érvelés és meggyőzés a gyakorlatban. Bemutatja: Komár Zita\n15.50 MAGAY TAMÁS: Bibliai eredetű kifejezések\, közmondások\, bölcsességek magyarul és angolul. Bemutatja a szerző\n16.00 BADITZNÉ PÁLVÖLGYI KATA\, BALÁZS-PIRI PÉTER: TOP 2000 spanyol szó. A 2000 legfontosabb spanyol szó példamondatokkal. Bemutatja: JESZENSZKY MÁRTON\n16.10 Z. KARVALICS LÁSZLÓ: Informatórium. Szó-kalauz a kortárs információs kultúrához. Bemutatja: BÓDI ZOLTÁN\n16.20 Beharangozó (KISS GÁBOR):\nBALÁZSI JÓZSEF ATTILA: Magyar hasonlatszótár\nBALÁZSI JÓZSEF ATTILA: A sas egyedül repül. Közmondások a világ minden részéről.\nJANURIK TAMÁS\, KISS GÁBOR: Magyar gyökszótár\nNAGY GYÖRGY: Magyar‒angol közmondásszótár\nBUGÁT PÁL: Természettudományi szóhalmaz. 1843. Reprint kiadás\, Pytheas Könyvkiadó \nTovábbi információ:\nTINTA Könyvkiadó\, 1116 Budapest\, Kiskőrös utca 10.\ne-mail: info@tintakiado.hu\nhonlap: www.tintakiado.hu\, www.tinta.hu\nfacebook: www.facebook.com/tintakiado\nTel.: (1) 371 05 01\nA helyszínen a TINTA Könyvkiadó kiadványai 30% kedvezménnyel vásárolhatók meg.
URL:https://anyanyelvapolo.hu/esemenyek/orulni-kell-megtalalt-szonak-konyvbemutato/
LOCATION:MTA Nyelvtudományi Intézete\, Benczúr u. 33.\, Budapest\, 1063\, Magyarország
CATEGORIES:Események
ORGANIZER;CN="Tinta K%C3%B6nyvkiad%C3%B3":MAILTO:info@tintakiado.hu
GEO:47.5111926;19.0759071
X-APPLE-STRUCTURED-LOCATION;VALUE=URI;X-ADDRESS=MTA Nyelvtudományi Intézete Benczúr u. 33. Budapest 1063 Magyarország;X-APPLE-RADIUS=500;X-TITLE=Benczúr u. 33.:geo:19.0759071,47.5111926
END:VEVENT
BEGIN:VEVENT
DTSTART;TZID=Europe/Budapest:20170511T150000
DTEND;TZID=Europe/Budapest:20170511T170000
DTSTAMP:20260423T191158
CREATED:20170505T182423Z
LAST-MODIFIED:20181007T193756Z
UID:19808-1494514800-1494522000@anyanyelvapolo.hu
SUMMARY:Rendhagyó nyelvtanóra a nyelvművelés jegyében
DESCRIPTION:Helyszín: Lévay József Református Gimnázium és Diákotthon\, Miskolc\nRendhagyó nyelvtanóra középiskolásoknak\, hogy az anyanyelvi játék segítségével még érdekesebbé tegyük a nyelvművelést. Cél\, hogy a foglalkozás után anyanyelvi klubok\, nyelvművelő körök jöjjenek létre. Fontos továbbá az is\, hogy a fiatalok igényesen használják anyanyelvüket\, odafigyeljenek a megfelelő kommunikációra\, nyelvhasználatra családban\, iskolában és később a munkahelyükön is. \nJátssz velünk\, mert játszva könnyebben bővítheted tudásod! \nAz esemény a Cselekvő közösségek – aktív közösségi szerepvállalás program keretein belül valósul meg.
URL:https://anyanyelvapolo.hu/esemenyek/rendhagyo-nyelvtanora-nyelvmuveles-jegyeben-1/
LOCATION:Lévay József Református Gimnázium és Diákotthon\, Kálvin János utca 2.\, Miskolc\, 3530\, Magyarország
CATEGORIES:Események
ATTACH;FMTTYPE=image/png:https://anyanyelvapolo.hu/wp-content/uploads/kozossegek-hete.png
ORGANIZER;CN="Anyanyelv%C3%A1pol%C3%B3k Sz%C3%B6vets%C3%A9ge":MAILTO:posta@anyanyelvapolo.hu
GEO:48.1011183;20.7810124
X-APPLE-STRUCTURED-LOCATION;VALUE=URI;X-ADDRESS=Lévay József Református Gimnázium és Diákotthon Kálvin János utca 2. Miskolc 3530 Magyarország;X-APPLE-RADIUS=500;X-TITLE=Kálvin János utca 2.:geo:20.7810124,48.1011183
END:VEVENT
BEGIN:VEVENT
DTSTART;TZID=Europe/Budapest:20170512T100000
DTEND;TZID=Europe/Budapest:20170512T120000
DTSTAMP:20260423T191158
CREATED:20170505T182606Z
LAST-MODIFIED:20181007T193749Z
UID:19815-1494583200-1494590400@anyanyelvapolo.hu
SUMMARY:Rendhagyó nyelvtanóra a nyelvművelés jegyében
DESCRIPTION:Helyszín: Lévay József Református Gimnázium és Diákotthon\, Miskolc\nRendhagyó nyelvtanóra középiskolásoknak\, hogy\, az anyanyelvi játék segítségével még érdekesebbé tegyük a nyelvművelést. Cél\, hogy a foglalkozás után anyanyelvi klubok\, nyelvművelő körök jöjjenek létre. Fontos továbbá az is\, hogy a fiatalok igényesen használják anyanyelvüket\, odafigyeljenek a megfelelő kommunikációra\, nyelvhasználatra családban\, iskolában és később a munkahelyükön is. \nJátssz velünk\, mert játszva könnyebben bővítheted tudásod! \nAz esemény a Cselekvő közösségek – aktív közösségi szerepvállalás program keretein belül valósul meg.
URL:https://anyanyelvapolo.hu/esemenyek/rendhagyo-nyelvtanora-a-nyelvmuveles-jegyeben-2/
LOCATION:Lévay József Református Gimnázium és Diákotthon\, Kálvin János utca 2.\, Miskolc\, 3530\, Magyarország
CATEGORIES:Események
ATTACH;FMTTYPE=image/png:https://anyanyelvapolo.hu/wp-content/uploads/kozossegek-hete.png
ORGANIZER;CN="Anyanyelv%C3%A1pol%C3%B3k Sz%C3%B6vets%C3%A9ge":MAILTO:posta@anyanyelvapolo.hu
GEO:48.1011183;20.7810124
X-APPLE-STRUCTURED-LOCATION;VALUE=URI;X-ADDRESS=Lévay József Református Gimnázium és Diákotthon Kálvin János utca 2. Miskolc 3530 Magyarország;X-APPLE-RADIUS=500;X-TITLE=Kálvin János utca 2.:geo:20.7810124,48.1011183
END:VEVENT
BEGIN:VEVENT
DTSTART;TZID=Europe/Budapest:20170515T180000
DTEND;TZID=Europe/Budapest:20170515T200000
DTSTAMP:20260423T191158
CREATED:20170511T205544Z
LAST-MODIFIED:20181007T193745Z
UID:19854-1494871200-1494878400@anyanyelvapolo.hu
SUMMARY:Tavaszi irodalmi gála a Pesti Vigadóban
DESCRIPTION:A Magyar Művészeti Akadémia nevében tisztelettel meghívjuk Önt és partnerét az MMA Irodalmi Tagozatának rendezvényére.\nIdőpont:\n2017. május 15. (hétfő) 18.00 óra\nHelyszín:\nA Magyar Művészeti Akadémia székháza\, a Pesti Vigadó díszterme\n(1051 Budapest\, Vigadó tér 2.)\nÁgh István\, Bogdán László\, Czakó Gábor\, Füzesi Magda\, Gál Sándor\, Jókai Anna\, Király László\, Kiss Anna\, Kodolányi Gyula\, Mezey Katalin\, Tamás Menyhért\, Tornai József\, Tóth Erzsébet és Vári Fábián László az MMA rendes tagjai\, továbbá Nagy Gáspár\, az MMA posztumusz tiszteleti tagjának műveiből készült vers- és próza-összeállítások. \nKubik Anna\, Oberfrank Pál\, Ráckevei Anna és Rátóti Zoltán színművészek\, az MMA rendes tagjai\, valamint Újhelyi Kinga színművész előadásában. \nMűsorvezetők:\nBódi Mátyás és Morvai Noémi\nIrodalmi beszélgetések Prőhle Gergellyel\, a Petőfi Irodalmi Múzeum igazgatójával az Arany János-emlékévről\, valamint Kodolányi Gyulával\, az MMA rendes tagjával a DOWN FELL THE STATUE OF GOLIATH – Hungarian Poets and Writers on the Revolution of 1956 címmel megjelent 56-os irodalmi antológia megjelenéséről. \nKözreműködik: a Misztrál együttes \nAz estet Wiegmann Alfréd szerkesztette. \nRendező: Rátóti Zoltán\, az MMA rendes tagja \nA belépés előzetes regisztráció esetén díjmentes. Kérjük\, hogy részvételi szándékát a sarnyai.andrea@mma.hu címre vagy a 30/204-3634 telefonszámon szíveskedjék jelezni!
URL:https://anyanyelvapolo.hu/esemenyek/tavaszi-irodalmi-gala-2017/
LOCATION:Vigadó\, Vigadó tér 2.\, Budapest\, 1051\, Magyarország
CATEGORIES:Események
ATTACH;FMTTYPE=image/jpeg:https://anyanyelvapolo.hu/wp-content/uploads/vigado-mnyn.jpg
ORGANIZER;CN="Magyar M%C5%B1v%C3%A9szeti Akad%C3%A9mia":MAILTO:sarnyai.andrea@mma.hu
GEO:47.4958449;19.0491643
X-APPLE-STRUCTURED-LOCATION;VALUE=URI;X-ADDRESS=Vigadó Vigadó tér 2. Budapest 1051 Magyarország;X-APPLE-RADIUS=500;X-TITLE=Vigadó tér 2.:geo:19.0491643,47.4958449
END:VEVENT
BEGIN:VEVENT
DTSTART;TZID=Europe/Budapest:20170520T093000
DTEND;TZID=Europe/Budapest:20170520T130000
DTSTAMP:20260423T191158
CREATED:20170504T082822Z
LAST-MODIFIED:20181007T193740Z
UID:19790-1495272600-1495285200@anyanyelvapolo.hu
SUMMARY:Az Anyanyelvápolók Szövetsége közgyűlése
DESCRIPTION:Szeretettel várjuk 2017. május 20-án\, szombaton 9.30 órakor\naz Anyanyelvápolók Szövetségének évi rendes közgyűlésére.\nHelyszín: Petőfi Irodalmi Múzeum\, Díszterem (Budapest V.\, Károlyi u. 16.) \nProgram: \n\n9.00–9.30 Regisztráció\n9.30 A közgyűlés megkezdése (Határozatképesség hiányában 2017. május 26-án 18.00 órakor\,\nváltozatlan helyszínnel.)\n\nMegnyitó: Juhász Judit\, az ASZ elnöke \nKözreműködik: Egri Zsófia VI. o. tanuló\, a 2015. évi „Fölszállott a páva” verseny különdíjasa\,\nHűvösvölgyi Ildikó Kossuth-díjas színművész \nBeszámoló az ASZ tevékenységéről: Balázs Géza\, az ASZ alelnöke \nKönyvbemutató:\nBalázs Géza: Beke József: Arany-szótár\, Arany János költői nyelvének szókészlete\nPusztay János: MaTer – Magyar Terminológia c. könyvsorozata első kötete (Kárpátalja)\nPomozi Péter: Magyar nyelvű otthon c. könyvsorozata első kötete \nPénzügyi beszámoló: Balázs Istvánné gazdasági igazgató (PIM)\, Müller Ferencné\, az ASZ\nfelügyelő bizottságának elnöke \n\n10.45 Szünet\n11.00 Konzultáció\n\nKerekes Barnabás\, az ASZ alelnöke: áttekintés az anyanyelvi versenyekről és a Beszélni\nnehéz! –szakkörök tevékenységéről. Tervek\, javaslatok. \nFelkért előadók (5 perces időtartamban): dr. Bacskó Józsefné\, Brézai Zoltán\, Keppel Gyula\,\nKovács Zsuzsanna\, Némethné dr. Balázs Katalin\, Tekes Rozália\, Terjéki Tamás. \nHozzászólások\, kérdések\, vita. \n\n12.30 Ebédszünet\n13.00 A PIM „Önarckép álarcokban” c. Arany János-kiállításának megtekintése szakmai vezetővel.\n\nMegjelenésére és együttműködésére feltétlenül számítunk\, s arra kérjük\, szíveskedjék részvételi szándékát május 16-ig a kovacs.zsuzsanna@anyanyelvapolo.hu címen\, vagy a +36-30-562-6202-es telefonszámon jelezni. \nBudapest\, 2017. május 3.\nÜdvözlettel:\naz ASZ elnöksége
URL:https://anyanyelvapolo.hu/esemenyek/az-anyanyelvapolok-szovetsege-kozgyulese/
LOCATION:Petőfi Irodalmi Múzeum\, Károlyi utca 16.\, Budapest\, 1053\, Magyarország
CATEGORIES:Események
ATTACH;FMTTYPE=image/jpeg:https://anyanyelvapolo.hu/wp-content/uploads/asz-link-altalanos.jpg
ORGANIZER;CN="Anyanyelv%C3%A1pol%C3%B3k Sz%C3%B6vets%C3%A9ge":MAILTO:posta@anyanyelvapolo.hu
GEO:47.4914091;19.0581894
X-APPLE-STRUCTURED-LOCATION;VALUE=URI;X-ADDRESS=Petőfi Irodalmi Múzeum Károlyi utca 16. Budapest 1053 Magyarország;X-APPLE-RADIUS=500;X-TITLE=Károlyi utca 16.:geo:19.0581894,47.4914091
END:VEVENT
BEGIN:VEVENT
DTSTART;TZID=Europe/Budapest:20170520T100000
DTEND;TZID=Europe/Budapest:20170520T170000
DTSTAMP:20260423T191158
CREATED:20170328T063315Z
LAST-MODIFIED:20181007T193735Z
UID:19254-1495274400-1495299600@anyanyelvapolo.hu
SUMMARY:Simonyi Zsigmond Kárpát-medencei helyesírási verseny döntője
DESCRIPTION:A verseny célja: anyanyelvünk ápolása\, a nyelvhasználat iránt érzett felelősségtudat és az anyanyelv szeretetének az erősítése\, valamint a továbbtanuláshoz\, az informatikai eszközök használatához\, a munkavégzéshez szükséges helyesírási kompetencia mérése\, fejlesztése. \nA verseny kategóriái korcsoportok és iskolaszintek szerint: 5. évfolyam\, 6. évfolyam\, 7. évfolyam\, 8. évfolyam. A verseny minden fordulójában egy kategóriában versenyeznek az általános iskolai és a középiskolai 5–8. évfolyamos tanulók. A Kárpát-medencei döntőn egy kategóriában versenyeznek a határon túli és a magyarországi diákok. \nFotó: Designed by Pressfoto / Freepik
URL:https://anyanyelvapolo.hu/esemenyek/simonyi-zsigmond-karpat-medencei-helyesirasi-verseny-dontoje/
LOCATION:Eötvös Loránd Tudományegyetem – BTK\, Múzeum krt. 4-6.\, Budapest\, 1088\, Hungary
CATEGORIES:Versenyek
ATTACH;FMTTYPE=image/jpeg:https://anyanyelvapolo.hu/wp-content/uploads/alt-isk-diakok.jpg
GEO:47.4938147;19.0604045
X-APPLE-STRUCTURED-LOCATION;VALUE=URI;X-ADDRESS=Eötvös Loránd Tudományegyetem – BTK Múzeum krt. 4-6. Budapest 1088 Hungary;X-APPLE-RADIUS=500;X-TITLE=Múzeum krt. 4-6.:geo:19.0604045,47.4938147
END:VEVENT
BEGIN:VEVENT
DTSTART;TZID=Europe/Budapest:20170525T180000
DTEND;TZID=Europe/Budapest:20170525T200000
DTSTAMP:20260423T191158
CREATED:20170119T192350Z
LAST-MODIFIED:20181007T193731Z
UID:18408-1495735200-1495742400@anyanyelvapolo.hu
SUMMARY:Nyelvőrző Szalon 13.
DESCRIPTION:A Józsa Judit Galéria és az Anyanyelvápolók Szövetsége hagyományteremtő céllal rendezi meg Nyelvőrző szalonját.\n„Színház az egész világ” – ezúttal a Nyelvőrző Szalon is a világot jelentő deszkák környékén kalandoz. Bánffy György színművészre\, az Anyanyelvápolók Szövetségének örökös elnökére emlékezünk\, majd Vörösmarty Mihály: Csongor és Tünde c. színművének nyelvét és költői képeit elemzi Sediánszky Nóra.\nVégül – minden jó\, ha jó a vége – nyelvi játékokat idézünk fel a Nyelvőrző múltjából Kerekes Barnabás vezetésével. Matula Ágnes\, a nosztalgiafelelős és a Szalon házigazdái szeretettel várnak mindenkit!\nA rendezvény ingyenes\, hívunk\, várunk minden anyanyelvét féltő és szerető kedves érdeklődőt!
URL:https://anyanyelvapolo.hu/esemenyek/nyelvorzo-szalon-13/
LOCATION:Józsa Judit Galéria\, Városház utca 1.\, Budapest\, 1052\, Magyarország
CATEGORIES:Nyelvőrző Szalon
ATTACH;FMTTYPE=image/jpeg:https://anyanyelvapolo.hu/wp-content/uploads/2016-jozsajudit.jpg
ORGANIZER;CN="Anyanyelv%C3%A1pol%C3%B3k Sz%C3%B6vets%C3%A9ge":MAILTO:posta@anyanyelvapolo.hu
GEO:47.4937905;19.0565499
X-APPLE-STRUCTURED-LOCATION;VALUE=URI;X-ADDRESS=Józsa Judit Galéria Városház utca 1. Budapest 1052 Magyarország;X-APPLE-RADIUS=500;X-TITLE=Városház utca 1.:geo:19.0565499,47.4937905
END:VEVENT
BEGIN:VEVENT
DTSTART;TZID=Europe/Budapest:20170527T120000
DTEND;TZID=Europe/Budapest:20170528T120000
DTSTAMP:20260423T191158
CREATED:20170501T162903Z
LAST-MODIFIED:20181007T193721Z
UID:19763-1495886400-1495972800@anyanyelvapolo.hu
SUMMARY:Helyi csoportok tanácskozása
DESCRIPTION:Az ifjúsági tagozat minden évben megrendezi a helyi csoportok tanácskozását\, amelyen a különböző körök néhány fiatalja és az ifjúsági vezetőség tagjai vesznek rész. A kétnapos tanácskozás célja megismerni egymás munkáját\, a fiatalokat bevonni az ASZISZ munkájába.
URL:https://anyanyelvapolo.hu/esemenyek/helyi-csoportok-tanacskozasa-2017/
LOCATION:Play Wellness Panzió és Vendégházak\, Petőfi Sándor út 73.\, Diósjenő\, 2643\, Magyarország
CATEGORIES:Események
ATTACH;FMTTYPE=image/jpeg:https://anyanyelvapolo.hu/wp-content/uploads/tahi-2014.jpg
ORGANIZER;CN="Anyanyelv%C3%A1pol%C3%B3k Sz%C3%B6vets%C3%A9ge":MAILTO:posta@anyanyelvapolo.hu
GEO:47.9476748;19.0315704
X-APPLE-STRUCTURED-LOCATION;VALUE=URI;X-ADDRESS=Play Wellness Panzió és Vendégházak Petőfi Sándor út 73. Diósjenő 2643 Magyarország;X-APPLE-RADIUS=500;X-TITLE=Petőfi Sándor út 73.:geo:19.0315704,47.9476748
END:VEVENT
END:VCALENDAR