BEGIN:VCALENDAR
VERSION:2.0
PRODID:-//Anyanyelvápolók Szövetsége - ECPv6.8.3//NONSGML v1.0//EN
CALSCALE:GREGORIAN
METHOD:PUBLISH
X-ORIGINAL-URL:https://anyanyelvapolo.hu
X-WR-CALDESC:Events for Anyanyelvápolók Szövetsége
REFRESH-INTERVAL;VALUE=DURATION:PT1H
X-Robots-Tag:noindex
X-PUBLISHED-TTL:PT1H
BEGIN:VTIMEZONE
TZID:Europe/Budapest
BEGIN:DAYLIGHT
TZOFFSETFROM:+0100
TZOFFSETTO:+0200
TZNAME:CEST
DTSTART:20170326T010000
END:DAYLIGHT
BEGIN:STANDARD
TZOFFSETFROM:+0200
TZOFFSETTO:+0100
TZNAME:CET
DTSTART:20171029T010000
END:STANDARD
END:VTIMEZONE
BEGIN:VEVENT
DTSTART;TZID=Europe/Budapest:20170804T170000
DTEND;TZID=Europe/Budapest:20170813T090000
DTSTAMP:20260423T140839
CREATED:20170328T063816Z
LAST-MODIFIED:20201118T130647Z
UID:19260-1501866000-1502614800@anyanyelvapolo.hu
SUMMARY:XXV. Országos Ifjúsági Anyanyelvi Tábor
DESCRIPTION:A nyári egyhetes rendezvényen idén is neves előadók\, ismert színművészek osztják meg tudásukat\, gondolataikat a hallgatósággal\, a táborozók megismerhetik A Magyar Nyelv Múzeumát\, Sátoraljaújhely nevezetességeit\, a környékbeli települések látnivalóit\, valamint jó hangulatú akadályversenyen\, foglalkozásokon\, vetélkedőkön és táncházon vehetnek részt.\nA részletes tábori program ide kattintva olvasható.
URL:https://anyanyelvapolo.hu/esemenyek/xxv-orszagos-ifjusagi-anyanyelvi-tabor/
LOCATION:A Magyar Nyelv Múzeuma\, Kazinczy utca 275.\, Széphalom\, 3988\, Magyarország
CATEGORIES:Táborok
ATTACH;FMTTYPE=image/jpeg:https://anyanyelvapolo.hu/wp-content/uploads/nyelvmuzeum_kulso_4_800.jpg
ORGANIZER;CN="Anyanyelv%C3%A1pol%C3%B3k Sz%C3%B6vets%C3%A9ge":MAILTO:posta@anyanyelvapolo.hu
GEO:48.436182;21.625514
X-APPLE-STRUCTURED-LOCATION;VALUE=URI;X-ADDRESS=A Magyar Nyelv Múzeuma Kazinczy utca 275. Széphalom 3988 Magyarország;X-APPLE-RADIUS=500;X-TITLE=Kazinczy utca 275.:geo:21.625514,48.436182
END:VEVENT
BEGIN:VEVENT
DTSTART;VALUE=DATE:20170821
DTEND;VALUE=DATE:20170826
DTSTAMP:20260423T140839
CREATED:20170209T204744Z
LAST-MODIFIED:20181007T193702Z
UID:18590-1503273600-1503705599@anyanyelvapolo.hu
SUMMARY:XXXVI. Kazinczy Anyanyelvi Tábor
DESCRIPTION:A Kazinczy Ferenc Gimnázium idén 36. alkalommal rendezi meg hagyományos anyanyelvi táborát Győrben a magyar nyelv iránt érdeklődő tanulók számára.\n \nA tábor célja – hagyományaink szerint – a szöveg szerkezetének és hangzásának vizsgálata\, a beszéd- és magatartáskultúra összefüggéseinek tudatosítása\, országos szintű versenyekre való fölkészítés. Elsősorban azokat a diákokat várjuk\, akik iskolájukban nyelvművelő körökben tevékenykednek\, országos versenyekre készülnek\, de azokat is\, akik anyanyelvüket akarják igényesebben\, tudatosabban használni\, nyelvészeti ismereteiket bővíteni. Főként azok a tanulók jelentkezzenek\, akik még nem vettek részt a győri táborban. A hazai tanulók mellett a Kárpát-medence magyar anyanyelvű tanulóit is várjuk. Az ő részvételük előzetes megbeszélés alapján történik.\nA tábor ideje: 2017. augusztus 21-25. (hétfő–péntek)\nHelyszíne: a Kazinczy Ferenc Gimnázium Kollégiuma (9021 Győr\, Eötvös tér 1.) \nJelentkezni a Kazinczy Ferenc Gimnázium honlapján\, ide kattintva lehet.\nA jelentkezés elfogadását a tanév befejezéséig visszaigazoljuk.
URL:https://anyanyelvapolo.hu/esemenyek/xxxvi-kazinczy-anyanyelvi-tabor/
LOCATION:Kazinczy Ferenc Gimnázium\, Eötvös tér 1.\, Győr\, 9021\, Magyarország
CATEGORIES:Táborok
ATTACH;FMTTYPE=image/jpeg:https://anyanyelvapolo.hu/wp-content/uploads/esemeny-gyor2013.jpg
ORGANIZER;CN="Anyanyelv%C3%A1pol%C3%B3k Sz%C3%B6vets%C3%A9ge":MAILTO:posta@anyanyelvapolo.hu
GEO:47.6810866;17.629937
X-APPLE-STRUCTURED-LOCATION;VALUE=URI;X-ADDRESS=Kazinczy Ferenc Gimnázium Eötvös tér 1. Győr 9021 Magyarország;X-APPLE-RADIUS=500;X-TITLE=Eötvös tér 1.:geo:17.629937,47.6810866
END:VEVENT
BEGIN:VEVENT
DTSTART;TZID=Europe/Budapest:20170824T180000
DTEND;TZID=Europe/Budapest:20170824T200000
DTSTAMP:20260423T140839
CREATED:20170119T192423Z
LAST-MODIFIED:20181007T193652Z
UID:18410-1503597600-1503604800@anyanyelvapolo.hu
SUMMARY:Nyelvőrző Szalon 14.
DESCRIPTION:A Józsa Judit Galéria és az Anyanyelvápolók Szövetsége hagyományteremtő céllal rendezi meg Nyelvőrző szalonját.\nAugusztus 24-én elindul a Nyelvőrző Szalon őszi évada. Véget ér a nyári vakáció\, befejeződtek az anyanyelvi táborok itthon és a határon túl is. Első együttlétünk témáját is ez adja: az ifjú anyanyelvápolók nyári tábora az idén már 25. évfordulójához érkezett. Erről szól majd a képes emlékezés és Kerekes Barnabás tanár úr értékelő összefoglalója\, amelyre szeretettel vár minden kedves anyanyelvbarátot a Józsa Judit Galériába a Nyelvőrző Szalon házigazdái nevében Matula Ágnes. \nA belépés díjtalan!
URL:https://anyanyelvapolo.hu/esemenyek/nyelvorzo-szalon-14/
LOCATION:Józsa Judit Galéria\, Városház utca 1.\, Budapest\, 1052\, Magyarország
CATEGORIES:Nyelvőrző Szalon
ATTACH;FMTTYPE=image/jpeg:https://anyanyelvapolo.hu/wp-content/uploads/2016-jozsajudit.jpg
ORGANIZER;CN="Anyanyelv%C3%A1pol%C3%B3k Sz%C3%B6vets%C3%A9ge":MAILTO:posta@anyanyelvapolo.hu
GEO:47.4937905;19.0565499
X-APPLE-STRUCTURED-LOCATION;VALUE=URI;X-ADDRESS=Józsa Judit Galéria Városház utca 1. Budapest 1052 Magyarország;X-APPLE-RADIUS=500;X-TITLE=Városház utca 1.:geo:19.0565499,47.4937905
END:VEVENT
END:VCALENDAR