BEGIN:VCALENDAR
VERSION:2.0
PRODID:-//Anyanyelvápolók Szövetsége - ECPv6.8.3//NONSGML v1.0//EN
CALSCALE:GREGORIAN
METHOD:PUBLISH
X-ORIGINAL-URL:https://anyanyelvapolo.hu
X-WR-CALDESC:Events for Anyanyelvápolók Szövetsége
REFRESH-INTERVAL;VALUE=DURATION:PT1H
X-Robots-Tag:noindex
X-PUBLISHED-TTL:PT1H
BEGIN:VTIMEZONE
TZID:Europe/Budapest
BEGIN:DAYLIGHT
TZOFFSETFROM:+0100
TZOFFSETTO:+0200
TZNAME:CEST
DTSTART:20180325T010000
END:DAYLIGHT
BEGIN:STANDARD
TZOFFSETFROM:+0200
TZOFFSETTO:+0100
TZNAME:CET
DTSTART:20181028T010000
END:STANDARD
END:VTIMEZONE
BEGIN:VEVENT
DTSTART;TZID=Europe/Budapest:20181006T103000
DTEND;TZID=Europe/Budapest:20181006T133000
DTSTAMP:20260422T152323
CREATED:20180709T195729Z
LAST-MODIFIED:20181007T193321Z
UID:23341-1538821800-1538832600@anyanyelvapolo.hu
SUMMARY:Helyi csoportok évnyitó tanácskozása
DESCRIPTION:Ebben az évben október 6-án rendezzük meg hagyományos évnyitó tanácskozásunkat Budapesten\, a Baár–Madas Református Gimnáziumban. Az évnyitóra szeretettel várjuk a helyi csoportok tagjait és minden anyanyelvápolót.\nA tervezett program: \n11.00–12.00\n– köszöntő\n– visszatekintés a nyári táborokra képek és videók segítségével\n– a következő év eseményeinek megtervezése \n12.00–13.00\n– szekcióülések: tanároknak és diákoknak  \n13.00–13.30\n– összegzés\, hozzászólások\, zárszó \n14.00\n– a Kerepesi úti temetőben megemlékezés a mozgalomalapítóról\, Péchy Blankáról \nA meghirdetett programot követően egy társasjáték-délutánt szervezünk kb. 15.30-tól. A pontos helyszínt hamarosan közzétesszük. Várunk erre is minden érdeklődő fiatalt! :)
URL:https://anyanyelvapolo.hu/esemenyek/helyi-csoportok-evnyito-tanacskozasa-2018/
LOCATION:Baár-Madas Református Gimnázium\, Lorántffy Zsuzsanna út 3.\, Budapest\, 1022\, Magyarország
CATEGORIES:Események
ATTACH;FMTTYPE=image/jpeg:https://anyanyelvapolo.hu/wp-content/uploads/mediatar-thumb-bg_hcset17.jpg
ORGANIZER;CN="Anyanyelv%C3%A1pol%C3%B3k Sz%C3%B6vets%C3%A9ge":MAILTO:posta@anyanyelvapolo.hu
GEO:47.5115017;19.0145949
X-APPLE-STRUCTURED-LOCATION;VALUE=URI;X-ADDRESS=Baár-Madas Református Gimnázium Lorántffy Zsuzsanna út 3. Budapest 1022 Magyarország;X-APPLE-RADIUS=500;X-TITLE=Lorántffy Zsuzsanna út 3.:geo:19.0145949,47.5115017
END:VEVENT
BEGIN:VEVENT
DTSTART;TZID=Europe/Budapest:20181019T080000
DTEND;TZID=Europe/Budapest:20181021T100000
DTSTAMP:20260422T152323
CREATED:20180710T190648Z
LAST-MODIFIED:20181007T193227Z
UID:23343-1539936000-1540116000@anyanyelvapolo.hu
SUMMARY:46. Édes anyanyelvünk verseny országos döntő
DESCRIPTION:A 46. alkalommal megrendezett Édes anyanyelvünk nyelvhasználati verseny országos döntője idén október 19–21. között várja a versenyző diákokat és felkészítő tanáraikat. A hagyománynak megfelelően a verseny házigazdája Sátoraljaújhely.\n \nOktóber 19-én:\n8.00 órakor a gimnázium tornatermében az írásbeli verseny megnyitója\, versenyzői sorszámok húzása\n9.00 órakor írásbeli verseny a Kossuth Gimnáziumban\,\n19.00 órakor díszünnepség a Latabár Színházban\n20.00 órakor fogadás a kísérőtanárok részére a Városháza dísztermében \nOktóber 20-án:\n8.00 órakor Kazinczy Ferenc szobrának megkoszorúzása\n8.30 órakor szóbeli verseny\n15.00 órakor a verseny írásbeli részének értékelése a tanárok és a versenyzők részére (a gimnáziumban)\n16.00 órakor a verseny szóbeli részének értékelése a tanárok és a versenyzők részére (a gimnáziumban) \nOktóber 21-én:\n8.00 órakor koszorúzás Kazinczy sírjánál\, majd ünnepélyes eredményhirdetés Széphalomban
URL:https://anyanyelvapolo.hu/esemenyek/46-edes-anyanyelvunk-verseny-orszagos-donto/
LOCATION:SZSZC Sátoraljaújhelyi Kossuth Lajos Technikum\, Szakképző Iskola és Gimnázium\, Deák utca 10.\, Sátoraljaújhely\, 3980\, Magyarország
CATEGORIES:Versenyek
ATTACH;FMTTYPE=image/jpeg:https://anyanyelvapolo.hu/wp-content/uploads/2017-ea-verseny-04.jpg
GEO:48.400562;21.656673
X-APPLE-STRUCTURED-LOCATION;VALUE=URI;X-ADDRESS=SZSZC Sátoraljaújhelyi Kossuth Lajos Technikum Szakképző Iskola és Gimnázium Deák utca 10. Sátoraljaújhely 3980 Magyarország;X-APPLE-RADIUS=500;X-TITLE=Deák utca 10.:geo:21.656673,48.400562
END:VEVENT
BEGIN:VEVENT
DTSTART;TZID=Europe/Budapest:20181025T180000
DTEND;TZID=Europe/Budapest:20181025T200000
DTSTAMP:20260422T152323
CREATED:20180923T140820Z
LAST-MODIFIED:20181007T193219Z
UID:25370-1540490400-1540497600@anyanyelvapolo.hu
SUMMARY:Nyelvőrző Szalon 26.
DESCRIPTION:Októberben vendéget köszönthetünk a Nyelvőrző Szalonban: Lázár Csaba színművészt\, a Magyar Katolikus Rádió főbemondóját\, akit az idén\, augusztus 20-án rangos állami kitüntetésben részesítettek.\n \nNapjainkban egyre ritkábban hallunk a rádióban\, televízióban kellemes hangú\, jól artikulált beszédet. Olyat\, ami természetesen szép\, amely a magyar nyelv követelményei szerint értőn\, értetőn tolmácsolja a mondanivalót. Vendégünk azon kevesek közé tartozik\, aki a mikrofon mögött\, és pódiumon is mindig az szép szó örömét nyújtja. Az Arany János emlékévre összeállított ballada műsorából is hallhatnak majd részleteket kedves vendégeink\, az anyanyelv barátai.  \nMindenkit szeretettel várnak a Nyelvőrző Szalon házigazdái: Matula Ágnes és Kerekes Barnabás. \nA belépés díjtalan!
URL:https://anyanyelvapolo.hu/esemenyek/nyelvorzo-szalon-26/
LOCATION:Józsa Judit Galéria\, Városház utca 1.\, Budapest\, 1052\, Magyarország
CATEGORIES:Nyelvőrző Szalon
ATTACH;FMTTYPE=image/jpeg:https://anyanyelvapolo.hu/wp-content/uploads/2016-jozsajudit.jpg
ORGANIZER;CN="Anyanyelv%C3%A1pol%C3%B3k Sz%C3%B6vets%C3%A9ge":MAILTO:posta@anyanyelvapolo.hu
GEO:47.4937905;19.0565499
X-APPLE-STRUCTURED-LOCATION;VALUE=URI;X-ADDRESS=Józsa Judit Galéria Városház utca 1. Budapest 1052 Magyarország;X-APPLE-RADIUS=500;X-TITLE=Városház utca 1.:geo:19.0565499,47.4937905
END:VEVENT
END:VCALENDAR