BEGIN:VCALENDAR
VERSION:2.0
PRODID:-//Anyanyelvápolók Szövetsége - ECPv6.8.3//NONSGML v1.0//EN
CALSCALE:GREGORIAN
METHOD:PUBLISH
X-WR-CALNAME:Anyanyelvápolók Szövetsége
X-ORIGINAL-URL:https://anyanyelvapolo.hu
X-WR-CALDESC:Events for Anyanyelvápolók Szövetsége
REFRESH-INTERVAL;VALUE=DURATION:PT1H
X-Robots-Tag:noindex
X-PUBLISHED-TTL:PT1H
BEGIN:VTIMEZONE
TZID:Europe/Budapest
BEGIN:DAYLIGHT
TZOFFSETFROM:+0100
TZOFFSETTO:+0200
TZNAME:CEST
DTSTART:20190331T010000
END:DAYLIGHT
BEGIN:STANDARD
TZOFFSETFROM:+0200
TZOFFSETTO:+0100
TZNAME:CET
DTSTART:20191027T010000
END:STANDARD
END:VTIMEZONE
BEGIN:VEVENT
DTSTART;TZID=Europe/Budapest:20190216T103000
DTEND;TZID=Europe/Budapest:20190216T153000
DTSTAMP:20260420T091946
CREATED:20181007T190443Z
LAST-MODIFIED:20190208T190655Z
UID:25409-1550313000-1550331000@anyanyelvapolo.hu
SUMMARY:VI. Kárpát-medencei ifjúsági anyanyelvi parlament
DESCRIPTION:2019. február 16-án\, szombaton 10.30-tól rendezi meg az ifjúsági tagozat a VI. Kárpát-medencei Ifjúsági Anyanyelvi Parlamentet Budapesten\, a Baár–Madas Református Gimnáziumban. Az Országos Ifjúsági Anyanyelvi Parlament 21 éves múltra tekint vissza. Az idei a 26. alkalom\, tanácskozásunk 2013 óta kiszélesedett a teljes Kárpát-medencére.\n \nA helyi csoportok képviselőinek számát nem korlátozzuk\, fiatal szövetségi tagjaink alanyi jogon lehetnek ott az eseményen. Szívesen vennénk\, ha a helyi tagozatok\, közösségek vezetői – tanácskozási jogukkal élve – részt vennének a konferencián\, s felszólalásukkal is segítenék az ifjúsági tagozat munkáját. \nA tervezett napirend: \n\nA határozatképesség megállapítása\, a napirend elfogadása\nKöszöntők\, tájékoztató az Anyanyelvápolók Szövetségéről\nBeszámoló az Ifjúsági Tagozat munkájáról\nAz ifjúsági vezetőségi tagjelöltek bemutatása és megválasztása\n\n      – ebédszünet – \n\nBeszámoló a Kazinczy-díj Alapítványról és a Beszélni nehéz! mozgalomról\nHozzászólások\nHatározathozatal\nZárszó
URL:https://anyanyelvapolo.hu/esemenyek/vi-karpat-medencei-ifjusagi-anyanyelvi-parlament/
LOCATION:Baár-Madas Református Gimnázium\, Lorántffy Zsuzsanna út 3.\, Budapest\, 1022\, Magyarország
CATEGORIES:Események
ATTACH;FMTTYPE=image/jpeg:https://anyanyelvapolo.hu/wp-content/uploads/ip17kiemelt.jpg
ORGANIZER;CN="Anyanyelv%C3%A1pol%C3%B3k Sz%C3%B6vets%C3%A9ge Ifj%C3%BAs%C3%A1gi Tagozat":MAILTO:aszisz@anyanyelvapolo.hu
GEO:47.5115017;19.0145949
X-APPLE-STRUCTURED-LOCATION;VALUE=URI;X-ADDRESS=Baár-Madas Református Gimnázium Lorántffy Zsuzsanna út 3. Budapest 1022 Magyarország;X-APPLE-RADIUS=500;X-TITLE=Lorántffy Zsuzsanna út 3.:geo:19.0145949,47.5115017
END:VEVENT
BEGIN:VEVENT
DTSTART;TZID=Europe/Budapest:20190228T180000
DTEND;TZID=Europe/Budapest:20190228T200000
DTSTAMP:20260420T091946
CREATED:20190125T195415Z
LAST-MODIFIED:20190125T195415Z
UID:26002-1551376800-1551384000@anyanyelvapolo.hu
SUMMARY:Nyelvőrző Szalon 30.
DESCRIPTION:”Itt a farsang áll a bál\, keringőzik a kanál.„ Itt a ”farsang farka„\, vagyis közel a hamvazószerda és a nagyböjt. A régi világban ilyenkor rendezték a leghangosabb farsangi mulatságokat.\n \nEzúttal mi is farsangolni fogunk a magunk módján\, nyelvi eszközökkel: vendégünk lesz Sudár Annamária\, aki Csokonai Vitéz Mihály vígeposzának a Dorottyának részleteit adja majd elő. Ez a mű\, amely alcíme szerint: a dámák diadalma a fársángon\, igazán ide illik\, de felidézünk majd a vidám időszakhoz illő szólásokat-közmondásokat\, és nyelvi játékokat is játszunk Kerekes Barnabás irányításával. Vendégeink között az est végén a Tinta Könyvkiadó ajándékait fogjuk kisorsolni. Minden anyanyelvét szerető törzsvendéget és újonnan bekapcsolódó érdeklődőt szeretettel vár a Józsa Judit Galériában Matula Ágnes. \nA belépés díjtalan!
URL:https://anyanyelvapolo.hu/esemenyek/nyelvorzo-szalon-30/
LOCATION:Józsa Judit Galéria\, Városház utca 1.\, Budapest\, 1052\, Magyarország
CATEGORIES:Nyelvőrző Szalon
ATTACH;FMTTYPE=image/jpeg:https://anyanyelvapolo.hu/wp-content/uploads/2016-jozsajudit.jpg
ORGANIZER;CN="Anyanyelv%C3%A1pol%C3%B3k Sz%C3%B6vets%C3%A9ge":MAILTO:posta@anyanyelvapolo.hu
GEO:47.4937905;19.0565499
X-APPLE-STRUCTURED-LOCATION;VALUE=URI;X-ADDRESS=Józsa Judit Galéria Városház utca 1. Budapest 1052 Magyarország;X-APPLE-RADIUS=500;X-TITLE=Városház utca 1.:geo:19.0565499,47.4937905
END:VEVENT
END:VCALENDAR