BEGIN:VCALENDAR
VERSION:2.0
PRODID:-//Anyanyelvápolók Szövetsége - ECPv6.8.3//NONSGML v1.0//EN
CALSCALE:GREGORIAN
METHOD:PUBLISH
X-WR-CALNAME:Anyanyelvápolók Szövetsége
X-ORIGINAL-URL:https://anyanyelvapolo.hu
X-WR-CALDESC:Events for Anyanyelvápolók Szövetsége
REFRESH-INTERVAL;VALUE=DURATION:PT1H
X-Robots-Tag:noindex
X-PUBLISHED-TTL:PT1H
BEGIN:VTIMEZONE
TZID:Europe/Budapest
BEGIN:DAYLIGHT
TZOFFSETFROM:+0100
TZOFFSETTO:+0200
TZNAME:CEST
DTSTART:20190331T010000
END:DAYLIGHT
BEGIN:STANDARD
TZOFFSETFROM:+0200
TZOFFSETTO:+0100
TZNAME:CET
DTSTART:20191027T010000
END:STANDARD
END:VTIMEZONE
BEGIN:VEVENT
DTSTART;TZID=Europe/Budapest:20191005T103000
DTEND;TZID=Europe/Budapest:20191005T133000
DTSTAMP:20260419T204220
CREATED:20190908T124850Z
LAST-MODIFIED:20190908T124850Z
UID:27433-1570271400-1570282200@anyanyelvapolo.hu
SUMMARY:Helyi csoportok évnyitó tanácskozása és Beszélni nehéz!-körök találkozója
DESCRIPTION:Ebben az évben október 5-én rendezzük meg hagyományos évnyitó tanácskozásunkat\, valamint a Beszélni nehéz!-körök országos találkozóját Budapesten\, a Baár–Madas Református Gimnáziumban. Hívjuk és várjuk az Anyanyelvápolók Szövetsége helyi csoportjának tagjait és a Beszélni nehéz! mozgalom nagy családjába tartozókat.\nA tervezett program: \n– köszöntő – Juhász Judit\, az ASZ elnöke és Kovács Zsuzsanna\, a Szóról–Szóval rádióműsor társszerkesztője\n– megemlékezés Péchy Blanka művésznőről\, mozgalmaink megalapítójáról\, születésének 125. évfordulóján\n– visszatekintés a nyári táborokra képek és videók segítségével\n– a 2019/2020-as tanév anyanyelvi naptárának összeállítása\n– hozzászólások \nEgyüttlétünk kb. 13 óra 30 percig tart a Baár–Madasban\, ezt követően kilátogatunk a Fiumei úti sírkertbe\, Péchy Blanka síremlékéhez.
URL:https://anyanyelvapolo.hu/esemenyek/helyi-csoportok-evnyito-tanacskozasa-2019/
LOCATION:Baár-Madas Református Gimnázium\, Lorántffy Zsuzsanna út 3.\, Budapest\, 1022\, Magyarország
CATEGORIES:Események
ATTACH;FMTTYPE=image/jpeg:https://anyanyelvapolo.hu/wp-content/uploads/mediatar-thumb-bg_hcset17.jpg
ORGANIZER;CN="Anyanyelv%C3%A1pol%C3%B3k Sz%C3%B6vets%C3%A9ge":MAILTO:posta@anyanyelvapolo.hu
GEO:47.5115017;19.0145949
X-APPLE-STRUCTURED-LOCATION;VALUE=URI;X-ADDRESS=Baár-Madas Református Gimnázium Lorántffy Zsuzsanna út 3. Budapest 1022 Magyarország;X-APPLE-RADIUS=500;X-TITLE=Lorántffy Zsuzsanna út 3.:geo:19.0145949,47.5115017
END:VEVENT
BEGIN:VEVENT
DTSTART;TZID=Europe/Budapest:20191018T080000
DTEND;TZID=Europe/Budapest:20191020T100000
DTSTAMP:20260419T204220
CREATED:20191017T194914Z
LAST-MODIFIED:20191017T194914Z
UID:27474-1571385600-1571565600@anyanyelvapolo.hu
SUMMARY:47. Édes anyanyelvünk verseny országos döntő
DESCRIPTION:A 47. alkalommal megrendezett Édes anyanyelvünk nyelvhasználati verseny országos döntője idén október 18–20. között várja a versenyző diákokat és felkészítő tanáraikat. A hagyománynak megfelelően a verseny házigazdája Sátoraljaújhely.\n \nOktóber 18-án:\n8.00 órakor a gimnázium tornatermében az írásbeli verseny megnyitója\, versenyzői sorszámok húzása\n9.00 órakor írásbeli verseny a Kossuth Gimnáziumban\,\n19.00 órakor díszünnepség a Latabár Színházban\n20.00 órakor fogadás a kísérőtanárok részére a Városháza dísztermében \nOktóber 19-én:\n8.00 órakor Kazinczy Ferenc szobrának megkoszorúzása\n8.30 órakor szóbeli verseny\n15.00 órakor a verseny írásbeli részének értékelése a tanárok és a versenyzők részére (a gimnáziumban)\n16.00 órakor a verseny szóbeli részének értékelése a tanárok és a versenyzők részére (a gimnáziumban) \nOktóber 20-án:\n8.00 órakor koszorúzás Kazinczy sírjánál\, majd ünnepélyes eredményhirdetés Széphalomban
URL:https://anyanyelvapolo.hu/esemenyek/47-edes-anyanyelvunk-verseny-orszagos-donto/
LOCATION:SZSZC Sátoraljaújhelyi Kossuth Lajos Technikum\, Szakképző Iskola és Gimnázium\, Deák utca 10.\, Sátoraljaújhely\, 3980\, Magyarország
CATEGORIES:Versenyek
ATTACH;FMTTYPE=image/jpeg:https://anyanyelvapolo.hu/wp-content/uploads/2017-ea-verseny-04.jpg
GEO:48.400562;21.656673
X-APPLE-STRUCTURED-LOCATION;VALUE=URI;X-ADDRESS=SZSZC Sátoraljaújhelyi Kossuth Lajos Technikum Szakképző Iskola és Gimnázium Deák utca 10. Sátoraljaújhely 3980 Magyarország;X-APPLE-RADIUS=500;X-TITLE=Deák utca 10.:geo:21.656673,48.400562
END:VEVENT
BEGIN:VEVENT
DTSTART;TZID=Europe/Budapest:20191031T180000
DTEND;TZID=Europe/Budapest:20191031T200000
DTSTAMP:20260419T204220
CREATED:20190925T183139Z
LAST-MODIFIED:20190925T183139Z
UID:27461-1572544800-1572552000@anyanyelvapolo.hu
SUMMARY:Nyelvőrző Szalon 36.
DESCRIPTION:Szeptemberben megemlékeztünk a Bolognai Rovásemléknek nevezett leghosszabb összefüggő rovásírásos nyelvemlékünk megmentőjéről\, Luigi Ferdinando Marsigliról.\n \nOktóberi találkozónkon megismerkedünk az emlék lelőhelyének vidékén\, Székelyföldön még ma is megtalálható néhány rovásírásos emlékkel. Ide illik az a kezdeményezés\, amely egy budapesti szakgimnáziumban évről évre sikerrel ismétlődik: a diákok rovásírás versenyen vesznek részt. Erről hallunk majd beszámolót.\nOktóber 31. a reformáció ünnepe. Erről is szólunk majd\, hiszen történelmünk zivataros évszázadaiban a reformáció elementáris hatással volt a magyar nyelvi művelődésre.\nMinden kedves anyanyelvbarátot\, Szalonunk törzsvendégeit és új érdeklődőket szeretettel várnak a házigazdák: Józsa Judit\, Matula Ágnes és Kerekes Barnabás. \nA belépés díjtalan!
URL:https://anyanyelvapolo.hu/esemenyek/nyelvorzo-szalon-36/
LOCATION:Józsa Judit Galéria\, Városház utca 1.\, Budapest\, 1052\, Magyarország
CATEGORIES:Nyelvőrző Szalon
ATTACH;FMTTYPE=image/jpeg:https://anyanyelvapolo.hu/wp-content/uploads/2016-jozsajudit.jpg
ORGANIZER;CN="Anyanyelv%C3%A1pol%C3%B3k Sz%C3%B6vets%C3%A9ge":MAILTO:posta@anyanyelvapolo.hu
GEO:47.4937905;19.0565499
X-APPLE-STRUCTURED-LOCATION;VALUE=URI;X-ADDRESS=Józsa Judit Galéria Városház utca 1. Budapest 1052 Magyarország;X-APPLE-RADIUS=500;X-TITLE=Városház utca 1.:geo:19.0565499,47.4937905
END:VEVENT
END:VCALENDAR