BEGIN:VCALENDAR
VERSION:2.0
PRODID:-//Anyanyelvápolók Szövetsége - ECPv6.8.3//NONSGML v1.0//EN
CALSCALE:GREGORIAN
METHOD:PUBLISH
X-WR-CALNAME:Anyanyelvápolók Szövetsége
X-ORIGINAL-URL:https://anyanyelvapolo.hu
X-WR-CALDESC:Events for Anyanyelvápolók Szövetsége
REFRESH-INTERVAL;VALUE=DURATION:PT1H
X-Robots-Tag:noindex
X-PUBLISHED-TTL:PT1H
BEGIN:VTIMEZONE
TZID:Europe/Budapest
BEGIN:DAYLIGHT
TZOFFSETFROM:+0100
TZOFFSETTO:+0200
TZNAME:CEST
DTSTART:20130331T010000
END:DAYLIGHT
BEGIN:STANDARD
TZOFFSETFROM:+0200
TZOFFSETTO:+0100
TZNAME:CET
DTSTART:20131027T010000
END:STANDARD
BEGIN:DAYLIGHT
TZOFFSETFROM:+0100
TZOFFSETTO:+0200
TZNAME:CEST
DTSTART:20140330T010000
END:DAYLIGHT
BEGIN:STANDARD
TZOFFSETFROM:+0200
TZOFFSETTO:+0100
TZNAME:CET
DTSTART:20141026T010000
END:STANDARD
BEGIN:DAYLIGHT
TZOFFSETFROM:+0100
TZOFFSETTO:+0200
TZNAME:CEST
DTSTART:20150329T010000
END:DAYLIGHT
BEGIN:STANDARD
TZOFFSETFROM:+0200
TZOFFSETTO:+0100
TZNAME:CET
DTSTART:20151025T010000
END:STANDARD
END:VTIMEZONE
BEGIN:VEVENT
DTSTART;TZID=Europe/Budapest:20151113T110000
DTEND;TZID=Europe/Budapest:20151113T130000
DTSTAMP:20260422T202612
CREATED:20151029T111203Z
LAST-MODIFIED:20151029T111203Z
UID:14017-1447412400-1447419600@anyanyelvapolo.hu
SUMMARY:„Nemzetében él a nyelv” – ünnepi ülés a magyar nyelv napján
DESCRIPTION:Az Anyanyelvápolók Szövetsége és a Magyar Művészeti Akadémia szeretettel meghívja Önt és kísérőjét a magyar nyelv napja alkalmából rendezendő programokra.\n \n„Nemzetben él a nyelv” – 100 éve született Lőrincze Lajos\nÜnnepi ülés\nIdőpont: 2015. november 13. (péntek) 11.00 óra\nHelyszín: Petőfi Irodalmi Múzeum (Budapest\, V.\, Károlyi u. 16.) \nKöszöntő:\nE. Csorba Csilla\, a Petőfi Irodalmi Múzeum főigazgatója \nMegnyitó:\nJuhász Judit\, az ASZ elnöke \nA jubileumi Lőrincze-díj átadása:\nLaudációt mond: Balázs Géza egyetemi tanár\, az ASZ alelnöke\nA díjat átadja: Grétsy László professzor emeritus\, az ASZ tiszteletbeli elnöke \nA nyelvi anekdoták (EMMI – ASZ) országos pályázati díjak átadása\, és a Nyelvi anekdoták című kötet bemutatása:\nHujber Szabolcs középiskolai tanár\, PhD-hallgató \nAz „Írj levelet Kazinczy Ferencnek!” levélíró pályázat díjátadása:\nNyiri Péter osztályvezető (PIM – Magyar Nyelv Múzeuma) \nBalatonfüred város különdíjának átadása:\nCserép László osztályvezető \nElőadások:\nKemény Gábor egyetemi tanár\, az MTA Nyelvtudományi Intézetének tudományos tanácsadója: Lőrincze Lajos és az írói nyelvhelyesség\nH. Varga Gyula főiskolai tanár (EKF): Lőrincze Lajos és a rádiós nyelvművelés\nBalázs Géza egyetemi tanár (ELTE): Lőrincze Lajos öröksége a magyar nyelvtudományban\nNyiri Péter osztályvezető: Emberközpontú nyelvművelés a PIM – Magyar Nyelv Múzeumában \nKözreműködik: Pölcz Ádám tanársegéd (ELTE TÓK)\nMűsorvezető: Újszászi Bogár László PhD-hallgató.
URL:https://anyanyelvapolo.hu/esemenyek/nemzeteben-el-a-nyelv-unnepi-ules-a-magyar-nyelv-napjan/
LOCATION:Petőfi Irodalmi Múzeum\, Károlyi utca 16.\, Budapest\, 1053\, Magyarország
CATEGORIES:Események
ATTACH;FMTTYPE=image/jpeg:https://anyanyelvapolo.hu/wp-content/uploads/2015-mnyn-ules-1280.jpg
ORGANIZER;CN="Anyanyelv%C3%A1pol%C3%B3k Sz%C3%B6vets%C3%A9ge":MAILTO:posta@anyanyelvapolo.hu
GEO:47.4914091;19.0581894
X-APPLE-STRUCTURED-LOCATION;VALUE=URI;X-ADDRESS=Petőfi Irodalmi Múzeum Károlyi utca 16. Budapest 1053 Magyarország;X-APPLE-RADIUS=500;X-TITLE=Károlyi utca 16.:geo:19.0581894,47.4914091
END:VEVENT
BEGIN:VEVENT
DTSTART;TZID=Europe/Budapest:20141113T150000
DTEND;TZID=Europe/Budapest:20141113T190000
DTSTAMP:20260422T202612
CREATED:20141011T084848Z
LAST-MODIFIED:20141101T211220Z
UID:6666-1415890800-1415905200@anyanyelvapolo.hu
SUMMARY:A magyar nyelv napja – ünnepi ülés
DESCRIPTION:November 13. a magyar nyelv napja. Ezen a napon tartja az Anyanyelvápolók Szövetsége az ünnephez kapcsolódó\, lassan hagyománnyá váló ünnepségét\, konferenciáját\, amelyen rengeteg díjat adnak át\, valamint a tájnyelvvel kapcsolatos előadásokat hallgathatnak meg az érdeklődők.\n15.00 MEGNYITÓ\n15:00 Himnusz (Pölcz Ádám – zongora)\nKöszöntő: E. Csorba Csilla\,  a Petőfi Irodalmi Múzeum főigazgatója\nMegnyitó: Juhász Judit\, az Anyanyelvápolók Szövetségének elnöke \nDÍJÁTADÁSOK\nA 2014. évi Lőrincze-díjak átadása  – Adamikné Jászó Anna prof. em. és  Grétsy László prof. em.\, az ASZ örökös tiszteletbeli elnöke\nRendkívüli Kazinczy-díj átadása  – Szakonyi Károly\, a Kazinczy-díj  Alapítvány elnöke és Wacha Imre\,  a Kazinczy-díj Alapítvány kurátora\nA Péchy Blanka-díj átadása  – Szakonyi Károly és Wacha Imre\nA Maróti István Emlékérem átadása  – Bencédy József  prof. em. és Juhász Judit\nA PIM – Magyar Nyelv Múzeuma  „Írj levelet Kazinczy Ferencnek!” című országos levélíró pályázatának eredményhirdetése – Prof. dr. Balázs Géza egyetemi tanár\, az ASZ alelnöke\nBalatonfüred\, Debrecen és Kecskemét város középiskolások részére kiírt közös irodalmi pályázata díjainak átadása – Hári Lenke alpolgármester\,  Dr. Bene Edit főosztályvezető\,  Mák Kornél alpolgármester\nA Bárczi-harang-díj átadása  – Virágh László \nKörkapcsolás az internet segítségével a magyar nyelvi ünnepségekre. \n16.30 Szünet \n17.00 ÜNNEPI MŰSOR\nPachelbel: Canon és  Bartók: Román népi táncok\nElőadja: Vámosi Nagy Zsuzsa (fuvola) és Csáki András (gitár) Junior Príma-díjas művészek \nNyelvünk táji változatosságának dicsérete – Péntek János prof. em.\,  az MTA külső tagja\, az Anyanyelvápolók Erdélyi Szövetségének elnöke\nTájnyelv\, köznyelv\, beszélők  – Prof. dr. Gósy Mária tudományos tanácsadó (MTA Nyelvtudományi Intézet)\nA Magyar Nyelvstratégiai Intézetről  – Bencze Lóránt prof. em.\, igazgató \nKönyvbemutató: Élő tájnyelvek  Az EMMI-vel közös Kárpát-medencei pályázat nyertes tanulmányaiból szerkesztett kötet – Prof. dr. Balázs Géza egyetemi tanár (ELTE)\, az ASZ alelnöke \nMűsorvezető: Újszászi Bogár László \n18.30 Fogadás
URL:https://anyanyelvapolo.hu/esemenyek/a-magyar-nyelv-napja-unnepi-ules/
LOCATION:Petőfi Irodalmi Múzeum\, Károlyi utca 16.\, Budapest\, 1053\, Magyarország
CATEGORIES:Események
ATTACH;FMTTYPE=image/jpeg:https://anyanyelvapolo.hu/wp-content/uploads/esemeny-mnyn-ules-2014.jpg
ORGANIZER;CN="Anyanyelv%C3%A1pol%C3%B3k Sz%C3%B6vets%C3%A9ge":MAILTO:posta@anyanyelvapolo.hu
GEO:47.4914091;19.0581894
X-APPLE-STRUCTURED-LOCATION;VALUE=URI;X-ADDRESS=Petőfi Irodalmi Múzeum Károlyi utca 16. Budapest 1053 Magyarország;X-APPLE-RADIUS=500;X-TITLE=Károlyi utca 16.:geo:19.0581894,47.4914091
END:VEVENT
BEGIN:VEVENT
DTSTART;TZID=Europe/Budapest:20141013T150000
DTEND;TZID=Europe/Budapest:20141013T170000
DTSTAMP:20260422T202612
CREATED:20141006T125235Z
LAST-MODIFIED:20141006T125235Z
UID:6649-1413212400-1413219600@anyanyelvapolo.hu
SUMMARY:Rendkívüli közgyűlés – Anyanyelvápolók Szövetsége
DESCRIPTION:Tisztelt Tagtársunk!\nA Fővárosi Törvényszék a benyújtott alapszabályunkkal kapcsolatban hiánypótlást rendelt el\, ezért rendkívüli közgyűlést kell összehívnunk a következő napirendi pontokkal: \n\nA pontosított alapszabály elfogadása\nA tisztségviselők újbóli megválasztása\n\nA közgyűlésen jelen lesz dr. Vörös József ügyvéd\, aki tájékoztatást ad a kötelezettségekről. \nA közgyűlés helye és időpontja:\nPetőfi Irodalmi Múzeum\, 1053 Budapest\, Károlyi u. 16.\, 2014. október 13. hétfő 15.00 óra. \nA tagok felének meg nem jelenése esetén a második\, a megjelentek létszámától függetlenül érvényes közgyűlés helye és időpontja:\nPetőfi Irodalmi Múzeum\, 1053 Budapest\, Károlyi u. 16.\, 2014. október 13. hétfő 15.30. \nRészvételi szándékát jelezheti a posta@anyanyelvapolo.hu e-mail címen\, vagy postán az Anyanyelvápolók Szövetsége címén (1053 Budapest\, Károlyi utca 16.). \nMinden érintett megjelenésére számítunk! \nBudapest\, 2014. október 2. \nJuhász Judit elnök\nBalázs Géza alelnök\nKerekes Barnabás alelnök
URL:https://anyanyelvapolo.hu/esemenyek/meghivo-az-asz-rendkivuli-kozgyulesere/
LOCATION:Petőfi Irodalmi Múzeum\, Károlyi utca 16.\, Budapest\, 1053\, Magyarország
CATEGORIES:Események
ATTACH;FMTTYPE=image/jpeg:https://anyanyelvapolo.hu/wp-content/uploads/az-rendkivuli-kozgyules-esemeny.jpg
GEO:47.4914091;19.0581894
X-APPLE-STRUCTURED-LOCATION;VALUE=URI;X-ADDRESS=Petőfi Irodalmi Múzeum Károlyi utca 16. Budapest 1053 Magyarország;X-APPLE-RADIUS=500;X-TITLE=Károlyi utca 16.:geo:19.0581894,47.4914091
END:VEVENT
BEGIN:VEVENT
DTSTART;TZID=Europe/Budapest:20140524T090000
DTEND;TZID=Europe/Budapest:20140524T130000
DTSTAMP:20260422T202612
CREATED:20140515T105232Z
LAST-MODIFIED:20140515T105232Z
UID:4561-1400922000-1400936400@anyanyelvapolo.hu
SUMMARY:Közgyűlés – Anyanyelvápolók Szövetsége
DESCRIPTION:Az Anyanyelvápolók Szövetsége 2014. május 24-én szombaton 9.00 órakor tartja éves rendes\, egyben tisztújító közgyűlését a Petőfi Irodalmi Múzeumban (Budapest\, V.\, Károlyi u. 16.) az alábbi napirend szerint.\n1. Az országos anyanyelvi pályázat eredményhirdetése és díjátadása\n2. A 2013. évi mérleg és közhasznúsági jelentés elfogadása\n3. A 2014. évi program\, események\n4. Az alapító okirat módosítása\n5. Tisztségviselők választása\n6. Egyebek \nA tagok felének meg nem jelenése esetén a második\, a megjelentek létszámától függetlenül érvényes közgyűlés időpontja és helyszíne: 2014. május 24. szombat 10.00 óra\, Petőfi Irodalmi Múzeum (Budapest\, V.\, Károlyi u. 16.). \nRészvételi szándékát jelezheti a posta@anyanyelvapolo.hu e-mail címen vagy postán az Anyanyelvápolók Szövetsége címén (1053 Budapest\, Károlyi utca 16.). \nMinden érintett megjelenésére számítunk!
URL:https://anyanyelvapolo.hu/esemenyek/kozgyules-anyanyelvapolok-szovetsege/
LOCATION:Petőfi Irodalmi Múzeum\, Károlyi utca 16.\, Budapest\, 1053\, Magyarország
ATTACH;FMTTYPE=image/jpeg:https://anyanyelvapolo.hu/wp-content/uploads/2013-kozgyules1.jpg
ORGANIZER;CN="Anyanyelv%C3%A1pol%C3%B3k Sz%C3%B6vets%C3%A9ge":MAILTO:posta@anyanyelvapolo.hu
GEO:47.4914091;19.0581894
X-APPLE-STRUCTURED-LOCATION;VALUE=URI;X-ADDRESS=Petőfi Irodalmi Múzeum Károlyi utca 16. Budapest 1053 Magyarország;X-APPLE-RADIUS=500;X-TITLE=Károlyi utca 16.:geo:19.0581894,47.4914091
END:VEVENT
BEGIN:VEVENT
DTSTART;TZID=Europe/Budapest:20140519T170000
DTEND;TZID=Europe/Budapest:20140519T200000
DTSTAMP:20260422T202612
CREATED:20140515T113138Z
LAST-MODIFIED:20140519T094314Z
UID:4565-1400518800-1400529600@anyanyelvapolo.hu
SUMMARY:Könyvbemutató: Múzsák Kertje – A nyelv lelke\, a lélek nyelve
DESCRIPTION:A Petőfi Irodalmi Múzeum – A Magyar Nyelv Múzeuma 2014. május 19-én 17 órától tartja Múzsák Kertje – A nyelv lelke\, a lélek nyelve című kötetének budapesti bemutatóját.\nA Nyiri Péter szerkesztésében megjelent tanulmánykötet tematikus csoportokba rendezi azokat a tudományos kutatási eredményeket\, amelyek művelődéstörténeti előadásként tavaly Széphalmon elhangzottak. A tudományos alapossággal készült könyv a diákok számára is élvezetes\, érthető és olvasmányos nyelven mutatja be a nyelvmúzeum körül kialakult szellemi kutatóműhely legújabb eredményeit. \nA kötetet bemutatja Czifra Mariann irodalomtörténész. Vetített képes előadást tart A Magyar Nyelv Múzeumáról Nyiri Péter főosztályvezető. Közreműködnek: Pölcz Ádám\, Kerner Mária és Széman Emese Rózsa. \nHelyszín: Petőfi Irodalmi Múzeum\, Budapest\, Károlyi utca 16.\, Lotz-terem. \nAz eseményre a Múzeumi Sajtókávéház keretein belül kerül sor. 16 órakor E. Csorba Csilla főigazgató mond köszöntőt\, a PIM múzeumpedagógai tevékenységéről Gulyás Gabriella beszél\, valamint bemutatásra kerül a két új filiálé\, a széphalmi Magyar Nyelv Múzeuma és a sátoraljaújhelyi Kazinczy Múzeum. A 17 órakor sorra kerülő könyvbemutató után 18 órától Papp Júlia művészettörténész (MTA BTK) tart vezetést a Zsoltártól a rózsaszín regényig. Fejezetek a magyar női művelődés történetéből című kiállításban.
URL:https://anyanyelvapolo.hu/esemenyek/konyvbemutato-muzsak-kertje-nyelv-lelke-lelek-nyelve/
LOCATION:Petőfi Irodalmi Múzeum\, Károlyi utca 16.\, Budapest\, 1053\, Magyarország
CATEGORIES:Események
ATTACH;FMTTYPE=image/jpeg:https://anyanyelvapolo.hu/wp-content/uploads/muzsák-kertje2.jpg
ORGANIZER;CN="A Magyar Nyelv M%C3%BAzeuma":MAILTO:info@nyelvmuzeum.hu
GEO:47.4914091;19.0581894
X-APPLE-STRUCTURED-LOCATION;VALUE=URI;X-ADDRESS=Petőfi Irodalmi Múzeum Károlyi utca 16. Budapest 1053 Magyarország;X-APPLE-RADIUS=500;X-TITLE=Károlyi utca 16.:geo:19.0581894,47.4914091
END:VEVENT
BEGIN:VEVENT
DTSTART;TZID=Europe/Budapest:20140106T130000
DTEND;TZID=Europe/Budapest:20140106T180000
DTSTAMP:20260422T202612
CREATED:20140105T115430Z
LAST-MODIFIED:20140105T120747Z
UID:3330-1389013200-1389031200@anyanyelvapolo.hu
SUMMARY:III. Czuczor–Fogarasi-emlékkonferencia
DESCRIPTION:A Czuczor–Fogarasi az idő mérlegén \nBevezető előadások: A szótár körül\n13.00 Pölcz Ádám (nyelvész\, PhD-hallgató\, ELTE): A CzF.-szótár története\n13.15 Minya Károly (nyelvész\, főiskolai tanár\, Nyíregyházi Főiskola): A CzF.-szótár mai lexikológiai szemmel\n13.30 Hujber Szabolcs (magyar- és portugáltanár\, az ÉA szerkesztőségi titkára): Hunfalvy Pál nyelvészeti munkássága az idő mérlegén\nElemzések\n14.00 Kövecses Zoltán (nyelvész\, egyetemi tanár\, ELTE): Az „es” gyök kognitív nyelvészeti megközelítése\n14.25 Horváth Katalin (nyelvész\, ny. egyetemi docens\, ELTE\, Pannon Egyetem): Fog főnevünk szócsaládjáról a CzF. tükrében\n14.45 Magyari Sára (nyelvész\, Partiumi Keresztény Egyetem): A kert/udvar és szócsaládjának képe a magyar népdalokban\n15.05 Pomozi Péter (nyelvész\, egyetemi docens\, ELTE): Tér\, idő\, nyelvi kapcsolatok – A gyökkutatás mai perspektívái néhány szócsalád elemzésének tükrében\n15.30 – 15.45 Szünet\n15.45 Balázs Géza (nyelvész\, néprajzkutató\, egyetemi tanár\, ELTE): Hálózatkutatás és CzF.\n16.05 Kiss Gábor (nyelvész\, Tinta Kiadó): Túl a szavakon. A szavaknál nagyobb lexikai egységek: szókapcsolatok\, szólások és közmondások a CzF.-szótárban\n16.25 Molnár Gergely (néprajzkutató\, PhD-hallgató\, ELTE): A CzF.-ből kirajzolódó népi kultúra a 19. század második felében\nAlkalmazások\n16.45 Molnár Zsolt (ismerettudományi kutató): Az ismeret- és tudástudomány (cognitive science) kereteinek alkalmazása a magyar nyelv kutatásában.\n17.05 Molnárné Czeglédi Cecília (tanító\, a Molnár-Czeglédi anyanyelvtanítási módszer kidolgozója): Az ismeret- és tudástudomány (cognitive science) eredményeinek alkalmazása a magyar nyelv tanításában.\n17.25 Hudy Árpád (olvasószerkesztő\, Irodalmi Jelen): A nyelv gyökhálózata \nA részvétel ingyenes.\nA program támogatója: Magyar Művészeti Akadémia\nA konferencia rendezője: Inter Kultúra-\, Nyelv- és Médiakutató Központ Nonprofit Kft. Együttműködő partnerek: Anyanyelvápolók Szövetsége\, A Magyar Nyelv és Kultúra Nemzetközi Társasága\, Magyar Nyelvstratégiai Kutatócsoport\, Bolyai Műhely Alapítvány \nA konferencia programja letölthető itt: A Czuczor-Fogarasi az idő mérlegén
URL:https://anyanyelvapolo.hu/esemenyek/iii-czuczor-fogarasi-emlekkonferencia/
LOCATION:Petőfi Irodalmi Múzeum\, Károlyi utca 16.\, Budapest\, 1053\, Magyarország
CATEGORIES:Események
ATTACH;FMTTYPE=image/jpeg:https://anyanyelvapolo.hu/wp-content/uploads/esemeny-czf2014.jpg
GEO:47.4914091;19.0581894
X-APPLE-STRUCTURED-LOCATION;VALUE=URI;X-ADDRESS=Petőfi Irodalmi Múzeum Károlyi utca 16. Budapest 1053 Magyarország;X-APPLE-RADIUS=500;X-TITLE=Károlyi utca 16.:geo:19.0581894,47.4914091
END:VEVENT
BEGIN:VEVENT
DTSTART;TZID=Europe/Budapest:20131130T143000
DTEND;TZID=Europe/Budapest:20131130T164500
DTSTAMP:20260422T202612
CREATED:20131112T224050Z
LAST-MODIFIED:20131124T102109Z
UID:1764-1385821800-1385829900@anyanyelvapolo.hu
SUMMARY:A Kazinczy-díj Alapítvány gálája
DESCRIPTION:A Kazinczy-díj Alapítvány és az Anyanyelvápolók Szövetsége tisztelettel meghívja Önt és családját\, ismerőseit a 2013. november 30-án (szombaton) 14.30 órai kezdettel a Petőfi Irodalmi Múzeumban megrendezendő Kazinczy-gálára. \nKöszöntőt mond:\nJuhász Judit\, az Anyanyelvápolók Szövetségének elnöke\nSzakonyi Károly\, a Kazinczy-díj Alapítvány – Péchy Blanka emlékére kuratóriumának elnöke \nRendezvényünkön meghívott Kazinczy-díjas színművészek lépnek fel:\nBlaskó Péter\nCsászár Angela\nKubik Anna \nés megmutatják tehetségüket az Anyanyelvápolók Szövetsége Ifjúsági Tagozatának vezetőségi tagjai:\nBalogh Ramóna\, Bognár Balázs\, Brézai Zoltán\, Dömötör Andrea\, Erdélyi Zsófia\, Ficzere Kitti\, Gillich Katalin\, Horváth Krisztina\, Kende Adrienn\, Kerekes Zsolt\, Kerner Mária\, Mihály Balázs Attila\, Muszka Ágnes\, Nyerges Evelin\, Palincsák Enikő\, Dr. Ponyokai Judit\, Pölcz Ádám\, Dr. Reiser György Lukács\, Szabó Rita\, Széman E. Rózsa\, Terjéki Tamás és Végh Zsuzsanna. \nMűsorvezető:\nTörök Annamária\, a Magyar Rádió Kazinczy-díjas bemondója. \nMegtisztelő megjelenésére számítunk. \nKérjük\, részvtéeli szándékát legkésőbb november 28-ig jelezze az Anyanyelvápolók Szövetségénél (1053 Budapest\, Károlyi u. 16; posta@anyanyelvapolo.hu) vagy a Kazinczy-díj Alapítványnál (1022 Budapest\, Lorántff y Zs. u. 3; 97tkb@bmrg.hu)
URL:https://anyanyelvapolo.hu/esemenyek/a-kazinczy-dij-alapitvany-galaja/
LOCATION:Petőfi Irodalmi Múzeum\, Károlyi utca 16.\, Budapest\, 1053\, Magyarország
CATEGORIES:Események
ATTACH;FMTTYPE=image/jpeg:https://anyanyelvapolo.hu/wp-content/uploads/esemeny-gala2013.jpg
GEO:47.4914091;19.0581894
X-APPLE-STRUCTURED-LOCATION;VALUE=URI;X-ADDRESS=Petőfi Irodalmi Múzeum Károlyi utca 16. Budapest 1053 Magyarország;X-APPLE-RADIUS=500;X-TITLE=Károlyi utca 16.:geo:19.0581894,47.4914091
END:VEVENT
BEGIN:VEVENT
DTSTART;VALUE=DATE:20131113
DTEND;VALUE=DATE:20131114
DTSTAMP:20260422T202613
CREATED:20131112T224753Z
LAST-MODIFIED:20131112T224753Z
UID:1768-1384300800-1384300800@anyanyelvapolo.hu
SUMMARY:Magyar nyelv napja
DESCRIPTION:Az Anyanyelvápolók Szövetsége és a Petőfi Irodalmi Múzeum tisztelettel meghívja Önt és kísérőjét a magyar nyelv napja alkalmából rendezett ünnepi ülésre. \nIdőpont: 2013. november 13. (szerda) 14 óra\nHelyszín: Petőfi Irodalmi Múzeum (Budapest\, V.\, Károlyi u. 16.)\nFővédnök: Prof. emeritus Fekete György\, a Magyar Művészeti Akadémia elnöke \nProgram: \n14:00 Köszöntő\nE. Csorba Csilla\, a Petőfi Irodalmi Múzeum főigazgatója\nHammerstein Judit\, az Emberi Erőforrások Minisztériuma kultúrpolitikáért felelős helyettes államtitkára\nJuhász Judit\, az Anyanyelvápolók Szövetségének elnöke \n14:15 A Lőrincze-díjak ünnepélyes átadása\nA díjakat átadja: Grétsy László\, az Anyanyelvápolók Szövetségének tiszteletbeli elnöke és\nBalázs Géza\, az Anyanyelvápolók Szövetségének ügyvezető elnöke. \n14:45 Művészeti előadások\nNyelvünk aranyfedezete – a tájnyelvről:\nMezey Katalin költő\, műfordító\, a Magyar Művészeti Akadémia rendes tagja\nA zene nyelve:\nSzecsődi Ferenc hegedűművész\, a Magyar Művészeti Akadémia rendes tagja \n15:30\nKávészünet \n16:00 Nyelv – művészet – ismeretterjesztés \nMilyen a modern nyelvi ismeretterjesztés? – Balázs Géza egyetemi tanár (ELTE)\nA Magyar Nyelvtudományi Társaság – Juhász Dezső intézetigazgató\, egyetemi tanár (ELTE)\nhelyesiras.mta.hu – Heltainé Nagy Erzsébet tudományos főmunkatárs (Nyelvtudományi Intézet)\nÉdes Anyanyelvünk – Kemény Gábor egyetemi tanár (ME)\nA Magyar Nyelvi Szolgáltató Iroda – Minya Károly főiskolai tanár (NYF)\nanyanyelvapolo.hu – Terjéki Tamás főszerkesztő (GP)\nNyelvi ismeretterjesztés a rádióban – Kövesdy Zsuzsa programszerkesztő (Magyar Rádió)\nNyelvi ismeretterjesztés a televízióban – Matula Ágnes szerkesztő (Duna Televízió) \nKözreműködik:\nCsászár Angela színművész\, a Magyar Művészeti Akadémia rendes tagja\,\nPölcz Ádám PhD-hallgató \nMűsorvezető: Újszászi Bogár László \nKöszönjük\, ha részvételi szándékát 2013. november 9-ig jelzi a posta@anyanyelvapolo.hu címen.
URL:https://anyanyelvapolo.hu/esemenyek/magyar-nyelv-napja/
LOCATION:Petőfi Irodalmi Múzeum\, Károlyi utca 16.\, Budapest\, 1053\, Magyarország
CATEGORIES:Események
ATTACH;FMTTYPE=image/jpeg:https://anyanyelvapolo.hu/wp-content/uploads/esemeny-mnyn2013.jpg
GEO:47.4914091;19.0581894
X-APPLE-STRUCTURED-LOCATION;VALUE=URI;X-ADDRESS=Petőfi Irodalmi Múzeum Károlyi utca 16. Budapest 1053 Magyarország;X-APPLE-RADIUS=500;X-TITLE=Károlyi utca 16.:geo:19.0581894,47.4914091
END:VEVENT
END:VCALENDAR